Workbook

Sheet Instructions
B2: Hi and Welcome to this spreadsheet that is aimed at helping you keep your Club's financial records in order & will automatically produce 2 Reports - (1) Income & Expenditure Statement and (2) Cashflow Statement in an easy to read & understand format.
B4: There are a few things you need to do to set up this template each year, once you have downloaded it from the Sported Website.
A6: 1 | B6: Once you have downloaded this file, please save it onto your Club's computer or cloud storage.
A7: 2 | B7: Save the File with a different Name (Example: XXX Football Club Finance Records TEMPLATE - DO NOT OVERWRITE) Keep this copy of the blank File so you can re-use it each year
A8: 3 | B8: Save another copy with the Name for the Year (Example XXX Football Club Finance Records 2024-25 (This is the version of the file you will use for your current financial year)
B10: DATA WORKSHEET
A11: 4 | B11: The next step is to fill in the first Worksheet (Data) This worksheet will populate the other worksheets with headings, dates etc. to keep your reports standard for the whole year and save you time typing the same things repeatedly. (PLEASE DO NOT CUT OR COPY OR PASTE headings from one cell to another as this will corrupt the template - Instead just re-type the data the way you want it)
A12: 5 | B12: In the Data Worksheet, please enter the relevant data in Column B ( the Yellow Highlighted cells.) Examples are given to help you, but please use your own headings that are right for your club.
A13: 6 | B13: You can start your financial year in any month. The example is based on a standard financial year, so please change to suit your Club's own financial year start & end. Example, if your financial year actually starts in January, then Period 1 = "January", Period 2 = "February" and so on. Enter data in Column B (highlighted in yellow)
A14: 7 | B14: The next section are your club's types of INCOME. It is easier to start with the most commonly used Income Type, Example If the most regular Income is "Membership Fees" then enter this as Type 1 in Column B (highlighted in yellow)
A15: 8 | B15: The next section are your club's types of EXPENDITURE. It is easier to start with the most commonly used Expenditure Type, Example If the most regular Expenditure is "Hall Let Costs" then enter this as Type 1 in Column B (highlighted in yellow)
A16: 9 | B16: The last Item you need to input in this worksheet is the opening Bank balance at the start of your financial year. This should be as stated on your Club's Bank Statement.
B18: BUDGET WORKSHEET
B19: The Budget Worksheet is a useful tool to help plan out the year ahead in as much detail as you need. Your Budget can be revised at any time throughout the year, however this should only be done with the approval of the Club's Committee, and recorded in the Minutes of the relevant meeting. In general a budget is normally reviewed & revised once and only updated for significant changes from the original Budget.
A21: 1 | B21: You will note that all Months, and Income & Expenditure Headings have been automatically entered based on the information you enterd in the DATA Worksheet.
A22: 2 | B22: Please enter the data based on the months you expect to receive income or spend in the relevant month. Please use the " Notes / Assumption" section in Column P to record how you worked out the annual budget figure. It is helpful to record this information now so that if actual figures vary a lot from what was originally budgeted you can refer back to your original budget assumptions. You can also add additional notes if the Budget is revised at any time in the year. The cells will automatically expand to include all that you input, so no need for shorthand.
A23: 3 | B23: This Budget Worksheet will produce a Summary of the Surplus / (Deficit) expected as well as noting the Opening & Closing Cash Balances. This helps you adjust your plans to ensure that you do not run out of cash at any point in the coming year.
B25: WORKSHEETS CB1 to CB12
B27: These Worksheets are for you to record the actual Income & Expenditure incurred each month and the data entered here will automatically populate your Income & Expenditure and Cashflow Reports on a monthly basis.
A29: 1 | B29: Enter the date of the Income Transaction in Column A in the format DD/MM/YYYY
A30: 2 | B30: Enter a description for the Type of Income in Column B
A31: 3 | B31: Enter any other reference such as a PayIn number or other bank reference in Column C
A32: 4 | B32: Enter the amount of the Transaction under the Relevant Income Type in Columns E to AH accordingly. The Total should agree to the amount on the Bank Statement. You can enter several types of Income in 1 row as long as they all have the same date on the Bank Statement
A33: 5 | B33: Enter the date of the Expenditure Transaction in Column AJ in the format DD/MM/YYYY
A34: 6 | B34: Enter a description for the Type of Expenditure in Column AK
A35: 7 | B35: Enter any other reference such as a Direct Debit Reference / Cheque Number or other bank reference in Column AL
A36: 8 | B36: Enter the amount of the Transaction under the Relevant Expenditure Type in Columns AN to CF accordingly. The Total should agree to the amount on the Bank Statement. You can enter several types of Expenditure in 1 row as long as they all have the same date on the Bank Statement
B39: WORKSHEETS IE1 to IE12
B41: These worksheets are your Monthly Income & Expenditure Statements and do not need any inputof financial data as they are auto matically completed from the data already entered in the DATA, BUDGET and relevant CB Worksheets. They do however require input in Column J, K and L for the reason for any significant variance from the Budget.
B42: These reports should be reviewed monthly. The Actual figures are compared both monthly and cumulatively against the Budget and will note any variance between the two. For any significant variance, such as above or below 10% or a set amount agreed by the Committee.
A43: 1 | B43: In Column J, please record the reason for any significant variance from Budget. Be completely honest about the reason, even if the original budget assumption was completely incorrect - this demonstrates clear accountability & openness for your Club. It may also help you in future years to improve your budget.
A44: 2 | B44: In Column K, please record the action that is required to rectify any problems now or in the future if this is relevant.
A45: 3 | B45: In Column L, please record a Note Number for easy Reference for the Minute of the Meeting.
B47: WORKSHEETS CF1 to CF12
B49: These worksheets are your Cashflow Statements update each month with actual figures and future months based on the Budget. These Worksheets do not require any input of financial data, as they are automatically completed from the data already entered in the DATA, BUDGET and relevant CB Worksheets. They do require input in Column O for any significant problems identified and action required to ensure that the Cash Balance is always positive.
B51: This Template has been prepared to help your Club record it's financial performance accurately. Formulas have been protected to ensure the validity & accuracy of the Reports, however if you identify any issues with accuracy of reporting please inform Sported.

Sheet Data
C1: Format (Example)
A2: Club Name | C2: XXX Football Club
A3: Financial Year | C3: 2024-25
A4: Period 1 | C4: April
A5: Period 2 | C5: May
A6: Period 3 | C6: June
A7: Period 4 | C7: July
A8: Period 5 | C8: August
A9: Period 6 | C9: September
A10: Period 7 | C10: October
A11: Period 8 | C11: November
A12: Period 9 | C12: December
A13: Period 10 | C13: January
... A15: Period 12 | C15: March
A17: Income Headings
A18: CB Income 1 | C18: Membership Fees
A19: CB Income 2 | C19: Session Fee
A20: CB Income 3 | C20: General Donations
A21: CB Income 4 | C21: Restricted Use Donations
A22: CB Income 5 | C22: Fundraising Event 1 Income
A23: CB Income 6 | C23: Fundraising Event 2 Income
A24: CB Income 7 | C24: Fundraising Event 3 Income
A25: CB Income 8 | C25: Grant 1 Income
A26: CB Income 9 | C26: Grant 2 Income
A27: CB Income 10 | C27: Company Sponsorship
A28: CB Income 11 | C28: Gift Aid
A29: CB Income 12
A30: CB Income 13
A31: CB Income 14
A32: CB Income 15
A33: CB Income 16
A34: CB Income 17
A35: CB Income 18
A36: CB Income 19
A37: CB Income 20
A38: CB Income 21
A39: CB Income 22
A40: CB Income 23
... A49: Expenditure Headings
A50: CB Expend 1 | C50: Employee Salary (NET)
...

Sheet Budget
A1: =Data!$B$2 -> 0
A3: =_xlfn.CONCAT("Year ",Data!B3) -> Year
A5: Month | B5: =Data!$B$4 -> 0 | C5: =Data!$B$5 -> 0 | D5: =Data!$B$6 -> 0 | E5: =Data!$B$7 -> 0 | F5: =Data!$B$8 -> 0 | G5: =Data!$B$9 -> 0 | H5: =Data!$B$10 -> 0 | I5: =Data!$B$11 -> 0 | J5: =Data!$B$12 -> 0 | K5: =Data!$B$13 -> 0 | L5: =Data!$B$14 -> 0 | M5: =Data!$B$15 -> 0 | N5: TOTAL | P5: Notes / Assumptions
A6: Income
A7: =Data!$B$18 -> 0 | N7: =SUM(B7:M7) -> 0
A8: =Data!$B$19 -> 0 | N8: =SUM(B8:M8) -> 0
A9: =Data!$B$20 -> 0 | N9: =SUM(B9:M9) -> 0
A10: =Data!$B$21 -> 0 | N10: =SUM(B10:M10) -> 0
A11: =Data!$B$22 -> 0 | N11: =SUM(B11:M11) -> 0
A12: =Data!$B$23 -> 0 | N12: =SUM(B12:M12) -> 0
A13: =Data!$B$24 -> 0 | N13: =SUM(B13:M13) -> 0
A14: =Data!$B$25 -> 0 | N14: =SUM(B14:M14) -> 0
A15: =Data!$B$26 -> 0 | N15: =SUM(B15:M15) -> 0
A16: =Data!$B$27 -> 0 | N16: =SUM(B16:M16) -> 0
A17: =Data!$B$28 -> 0 | N17: =SUM(B17:M17) -> 0
A18: =Data!$B$29 -> 0 | N18: =SUM(B18:M18) -> 0
A19: =Data!$B$30 -> 0 | N19: =SUM(B19:M19) -> 0
A20: =Data!$B$31 -> 0 | N20: =SUM(B20:M20) -> 0
A21: =Data!$B$32 -> 0 | N21: =SUM(B21:M21) -> 0
A22: =Data!$B$33 -> 0 | N22: =SUM(B22:M22) -> 0
A23: =Data!$B$34 -> 0 | N23: =SUM(B23:M23) -> 0
A24: =Data!$B$35 -> 0 | N24: =SUM(B24:M24) -> 0
A25: =Data!$B$36 -> 0 | N25: =SUM(B25:M25) -> 0
A26: =Data!$B$37 -> 0 | N26: =SUM(B26:M26) -> 0
A27: =Data!$B$38 -> 0 | N27: =SUM(B27:M27) -> 0
A28: =Data!$B$39 -> 0 | N28: =SUM(B28:M28) -> 0
A29: =Data!$B$40 -> 0 | N29: =SUM(B29:M29) -> 0
A30: =Data!$B$41 -> 0 | N30: =SUM(B30:M30) -> 0
A31: =Data!$B$42 -> 0 | N31: =SUM(B31:M31) -> 0
A32: =Data!$B$43 -> 0 | N32: =SUM(B32:M32) -> 0
A33: =Data!$B$44 -> 0 | N33: =SUM(B33:M33) -> 0
A34: =Data!$B$45 -> 0 | N34: =SUM(B34:M34) -> 0
A35: =Data!$B$46 -> 0 | N35: =SUM(B35:M35) -> 0
A36: =Data!$B$47 -> 0 | N36: =SUM(B36:M36) -> 0
A37: TOTAL INCOME | B37: =SUM(B7:B36) -> 0 | C37: =SUM(C7:C36) -> 0 | D37: =SUM(D7:D36) -> 0 | E37: =SUM(E7:E36) -> 0 | F37: =SUM(F7:F36) -> 0 | G37: =SUM(G7:G36) -> 0 | H37: =SUM(H7:H36) -> 0 | I37: =SUM(I7:I36) -> 0 | ... N37: =SUM(N7:N36) -> 0
A39: Expenditure
A40: =Data!$B$50 -> 0 | N40: =SUM(B40:M40) -> 0
A41: =Data!$B$51 -> 0 | N41: =SUM(B41:M41) -> 0
A42: =Data!$B$52 -> 0 | N42: =SUM(B42:M42) -> 0
A43: =Data!$B$53 -> 0 | N43: =SUM(B43:M43) -> 0
...

Sheet Reports
A1: REPORTS
A3: Links to Reports
A4: Financial Year | B4: =Data!B3 -> 0
B6: Month
A7: Report Name | B7: =Data!$B$4 -> 0 | C7: =Data!$B$5 -> 0 | D7: =Data!$B$6 -> 0 | E7: =Data!$B$7 -> 0 | F7: =Data!$B$8 -> 0 | G7: =Data!$B$9 -> 0 | H7: =Data!$B$10 -> 0 | I7: =Data!$B$11 -> 0 | J7: =Data!$B$12 -> 0 | K7: =Data!$B$13 -> 0 | L7: =Data!$B$14 -> 0 | M7: =Data!$B$15 -> 0
A8: Cashbook | B8: CBook Month 1 | C8: CBook Month 2 | D8: Cbook Month 3 | E8: CBook Month 4 | F8: CBook Month 5 | G8: CBook Month 6 | H8: CBook Month 7 | I8: CBook Month 8 | J8: CBook Month 9 | K8: CBook Month 10 | L8: CBook Month11 | M8: CBook Month 12
A9: Income & Expenditure Account | B9: I&E Month 1 | C9: I&E Month 2 | D9: I&E Month3 | E9: I& E Month 4 | F9: I&E Month 5 | G9: I&E Month6 | H9: I&E Month 7 | I9: I&E Month 8 | J9: I&E Month 9 | K9: I&E Month 10 | L9: I&E Month 11 | M9: I&E Month 12
A10: Cashflow Statement | B10: CFlow Month 1 | C10: CFlow Month 2 | D10: CFlow Month 3 | E10: CFlow Month 4 | F10: CFlow Month 5 | G10: CFlow Month 6 | H10: CFlow Month 7 | I10: CFlow Month 8 | J10: CFlow Month 9 | K10: CFlow Month 10 | L10: CFlow Month 11 | M10: CFlow Month 12

Sheet CB1
A1: =_xlfn.CONCAT(Data!$B$2," Cash Book") -> Cash Book
A3: Year | B3: =Data!$B$3 -> 0
A4: Month | B4: =Data!$B$4 -> 0
A6: Date | B6: Description | C6: Pay In (Bank Ref) | D6: Total Amount | E6: =Data!$B$18 -> 0 | F6: =Data!$B$19 -> 0 | G6: =Data!$B$20 -> 0 | H6: =Data!$B$21 -> 0 | I6: =Data!$B$22 -> 0 | J6: =Data!$B$23 -> 0 | K6: =Data!$B$24 -> 0 | L6: =Data!$B$25 -> 0 | M6: =Data!$B$26 -> 0 | N6: =Data!$B$27 -> 0 | O6: =Data!$B$28 -> 0 | P6: =Data!$B$29 -> 0 | Q6: =Data!$B$30 -> 0 | R6: =Data!$B$31 -> 0 | S6: =Data!$B$32 -> 0 | T6: =Data!$B$33 -> 0 | U6: =Data!$B$34 -> 0 | V6: =Data!$B$35 -> 0 | W6: =Data!$B$36 -> 0 | X6: =Data!$B$37 -> 0 | Y6: =Data!$B$38 -> 0 | Z6: =Data!$B$39 -> 0 | AA6: =Data!$B$40 -> 0 | AB6: =Data!$B$41 -> 0 | AC6: =Data!$B$42 -> 0 | AD6: =Data!$B$43 -> 0 | AE6: =Data!$B$44 -> 0 | AF6: =Data!$B$45 -> 0 | AG6: =Data!$B$46 -> 0 | AH6: =Data!$B$47 -> 0 | AJ6: Date | AK6: Description | AL6: (Bank Ref) | AM6: Total Amount | AN6: =Data!$B$50 -> 0 | AO6: =Data!$B$51 -> 0 | AP6: =Data!$B$52 -> 0 | AQ6: =Data!$B$53 -> 0 | AR6: =Data!$B$54 -> 0 | AS6: =Data!$B$55 -> 0 | AT6: =Data!$B$56 -> 0 | AU6: =Data!$B$57 -> 0 | AV6: =Data!$B$58 -> 0 | AW6: =Data!$B$59 -> 0 | AX6: =Data!$B$60 -> 0 | AY6: =Data!$B$61 -> 0 | AZ6: =Data!$B$62 -> 0 | BA6: =Data!$B$63 -> 0 | BB6: =Data!$B$64 -> 0 | BC6: =Data!$B$65 -> 0 | BD6: =Data!$B$66 -> 0 | BE6: =Data!$B$67 -> 0 | BF6: =Data!$B$68 -> 0 | BG6: =Data!$B$69 -> 0 | BH6: =Data!$B$70 -> 0 | BI6: =Data!$B$71 -> 0 | BJ6: =Data!$B$72 -> 0 | BK6: =Data!$B$73 -> 0 | BL6: =Data!$B$74 -> 0 | BM6: =Data!$B$75 -> 0 | BN6: =Data!$B$76 -> 0 | BO6: =Data!$B$77 -> 0 | BP6: =Data!$B$78 -> 0 | BQ6: =Data!$B$79 -> 0 | BR6: =Data!$B$80 -> 0 | BS6: =Data!$B$81 -> 0 | BT6: =Data!$B$82 -> 0 | BU6: =Data!$B$83 -> 0 | BV6: =Data!$B$84 -> 0 | BW6: =Data!$B$85 -> 0 | BX6: =Data!$B$86 -> 0 | BY6: =Data!$B$87 -> 0 | BZ6: =Data!$B$88 -> 0 | CA6: =Data!$B$89 -> 0 | CB6: =Data!$B$90 -> 0 | CC6: =Data!$B$91 -> 0 | CD6: =Data!$B$92 -> 0 | CE6: =Data!$B$93 -> 0 | CF6: =Data!$B$94 -> 0
A7: Income | AJ7: Expenditure
D8: =SUM(E8:AH8) -> 0 | AM8: =SUM(AN8:CF8) -> 0
D9: =SUM(E9:AH9) -> 0 | AM9: =SUM(AN9:CF9) -> 0
D10: =SUM(E10:AH10) -> 0 | AM10: =SUM(AN10:CF10) -> 0
D11: =SUM(E11:AH11) -> 0 | AM11: =SUM(AN11:CF11) -> 0
D12: =SUM(E12:AH12) -> 0 | AM12: =SUM(AN12:CF12) -> 0
D13: =SUM(E13:AH13) -> 0 | AM13: =SUM(AN13:CF13) -> 0
D14: =SUM(E14:AH14) -> 0 | AM14: =SUM(AN14:CF14) -> 0
D15: =SUM(E15:AH15) -> 0 | AM15: =SUM(AN15:CF15) -> 0
D16: =SUM(E16:AH16) -> 0 | AM16: =SUM(AN16:CF16) -> 0
D17: =SUM(E17:AH17) -> 0 | AM17: =SUM(AN17:CF17) -> 0
D18: =SUM(E18:AH18) -> 0 | AM18: =SUM(AN18:CF18) -> 0
D19: =SUM(E19:AH19) -> 0 | AM19: =SUM(AN19:CF19) -> 0
... D37: =SUM(E37:AH37) -> 0 | AM37: =SUM(AN37:CF37) -> 0
A38: TOTAL | D38: =SUM(D8:D37) -> 0 | E38: =SUM(E8:E37) -> 0 | F38: =SUM(F8:F37) -> 0 | G38: =SUM(G8:G37) -> 0 | H38: =SUM(H8:H37) -> 0 | I38: =SUM(I8:I37) -> 0 | J38: =SUM(J8:J37) -> 0 | K38: =SUM(K8:K37) -> 0 | ... AH38: =SUM(AH8:AH37) -> 0 | AM38: =SUM(AM8:AM37) -> 0 | AN38: =SUM(AN8:AN37) -> 0 | AO38: =SUM(AO8:AO37) -> 0 | AP38: =SUM(AP8:AP37) -> 0 | AQ38: =SUM(AQ8:AQ37) -> 0 | AR38: =SUM(AR8:AR37) -> 0 | AS38: =SUM(AS8:AS37) -> 0 | AT38: =SUM(AT8:AT37) -> 0 | ... CF38: =SUM(CF8:CF37) -> 0
A41: Month Summary
A42: Total Income | D42: =D38 -> 0
A43: Total Expenditure | D43: =AM38 -> 0
A44: Surplus / (Deficit) in Month | D44: =D42-D43 -> 0
A45: Surplus / (Deficit) YTD | D45: =D44 -> 0

Sheet CB2
A1: =_xlfn.CONCAT(Data!$B$2," Cash Book") -> Cash Book
A3: Year | B3: =Data!$B$3 -> 0
A4: Month | B4: =Data!$B$5 -> 0
A6: Date | B6: Description | C6: Pay In (Bank Ref) | D6: Total Amount | E6: =Data!$B$18 -> 0 | F6: =Data!$B$19 -> 0 | G6: =Data!$B$20 -> 0 | H6: =Data!$B$21 -> 0 | I6: =Data!$B$22 -> 0 | J6: =Data!$B$23 -> 0 | K6: =Data!$B$24 -> 0 | L6: =Data!$B$25 -> 0 | M6: =Data!$B$26 -> 0 | N6: =Data!$B$27 -> 0 | O6: =Data!$B$28 -> 0 | P6: =Data!$B$29 -> 0 | Q6: =Data!$B$30 -> 0 | R6: =Data!$B$31 -> 0 | S6: =Data!$B$32 -> 0 | T6: =Data!$B$33 -> 0 | U6: =Data!$B$34 -> 0 | V6: =Data!$B$35 -> 0 | W6: =Data!$B$36 -> 0 | X6: =Data!$B$37 -> 0 | Y6: =Data!$B$38 -> 0 | Z6: =Data!$B$39 -> 0 | AA6: =Data!$B$40 -> 0 | AB6: =Data!$B$41 -> 0 | AC6: =Data!$B$42 -> 0 | AD6: =Data!$B$43 -> 0 | AE6: =Data!$B$44 -> 0 | AF6: =Data!$B$45 -> 0 | AG6: =Data!$B$46 -> 0 | AH6: =Data!$B$47 -> 0 | AJ6: Date | AK6: Description | AL6: (Bank Ref) | AM6: Total Amount | AN6: =Data!$B$50 -> 0 | AO6: =Data!$B$51 -> 0 | AP6: =Data!$B$52 -> 0 | AQ6: =Data!$B$53 -> 0 | AR6: =Data!$B$54 -> 0 | AS6: =Data!$B$55 -> 0 | AT6: =Data!$B$56 -> 0 | AU6: =Data!$B$57 -> 0 | AV6: =Data!$B$58 -> 0 | AW6: =Data!$B$59 -> 0 | AX6: =Data!$B$60 -> 0 | AY6: =Data!$B$61 -> 0 | AZ6: =Data!$B$62 -> 0 | BA6: =Data!$B$63 -> 0 | BB6: =Data!$B$64 -> 0 | BC6: =Data!$B$65 -> 0 | BD6: =Data!$B$66 -> 0 | BE6: =Data!$B$67 -> 0 | BF6: =Data!$B$68 -> 0 | BG6: =Data!$B$69 -> 0 | BH6: =Data!$B$70 -> 0 | BI6: =Data!$B$71 -> 0 | BJ6: =Data!$B$72 -> 0 | BK6: =Data!$B$73 -> 0 | BL6: =Data!$B$74 -> 0 | BM6: =Data!$B$75 -> 0 | BN6: =Data!$B$76 -> 0 | BO6: =Data!$B$77 -> 0 | BP6: =Data!$B$78 -> 0 | BQ6: =Data!$B$79 -> 0 | BR6: =Data!$B$80 -> 0 | BS6: =Data!$B$81 -> 0 | BT6: =Data!$B$82 -> 0 | BU6: =Data!$B$83 -> 0 | BV6: =Data!$B$84 -> 0 | BW6: =Data!$B$85 -> 0 | BX6: =Data!$B$86 -> 0 | BY6: =Data!$B$87 -> 0 | BZ6: =Data!$B$88 -> 0 | CA6: =Data!$B$89 -> 0 | CB6: =Data!$B$90 -> 0 | CC6: =Data!$B$91 -> 0 | CD6: =Data!$B$92 -> 0 | CE6: =Data!$B$93 -> 0 | CF6: =Data!$B$94 -> 0
A7: Income | AJ7: Expenditure
D8: =SUM(E8:AH8) -> 0 | AM8: =SUM(AN8:CF8) -> 0
D9: =SUM(E9:AH9) -> 0 | AM9: =SUM(AN9:CF9) -> 0
D10: =SUM(E10:AH10) -> 0 | AM10: =SUM(AN10:CF10) -> 0
D11: =SUM(E11:AH11) -> 0 | AM11: =SUM(AN11:CF11) -> 0
D12: =SUM(E12:AH12) -> 0 | AM12: =SUM(AN12:CF12) -> 0
D13: =SUM(E13:AH13) -> 0 | AM13: =SUM(AN13:CF13) -> 0
D14: =SUM(E14:AH14) -> 0 | AM14: =SUM(AN14:CF14) -> 0
D15: =SUM(E15:AH15) -> 0 | AM15: =SUM(AN15:CF15) -> 0
D16: =SUM(E16:AH16) -> 0 | AM16: =SUM(AN16:CF16) -> 0
D17: =SUM(E17:AH17) -> 0 | AM17: =SUM(AN17:CF17) -> 0
D18: =SUM(E18:AH18) -> 0 | AM18: =SUM(AN18:CF18) -> 0
D19: =SUM(E19:AH19) -> 0 | AM19: =SUM(AN19:CF19) -> 0
... D37: =SUM(E37:AH37) -> 0 | AM37: =SUM(AN37:CF37) -> 0
A38: TOTAL | D38: =SUM(D8:D37) -> 0 | E38: =SUM(E8:E37) -> 0 | F38: =SUM(F8:F37) -> 0 | G38: =SUM(G8:G37) -> 0 | H38: =SUM(H8:H37) -> 0 | I38: =SUM(I8:I37) -> 0 | J38: =SUM(J8:J37) -> 0 | K38: =SUM(K8:K37) -> 0 | ... AH38: =SUM(AH8:AH37) -> 0 | AM38: =SUM(AM8:AM37) -> 0 | AN38: =SUM(AN8:AN37) -> 0 | AO38: =SUM(AO8:AO37) -> 0 | AP38: =SUM(AP8:AP37) -> 0 | AQ38: =SUM(AQ8:AQ37) -> 0 | AR38: =SUM(AR8:AR37) -> 0 | AS38: =SUM(AS8:AS37) -> 0 | AT38: =SUM(AT8:AT37) -> 0 | ... CF38: =SUM(CF8:CF37) -> 0
A41: Month Summary
A42: Total Income | D42: =D38 -> 0
A43: Total Expenditure | D43: =AM38 -> 0
A44: Surplus / (Deficit) in Month | D44: =D42-D43 -> 0
A45: Surplus / (Deficit) YTD | D45: =D44+'CB1'!D45 -> 0

Sheet CB3
A1: =_xlfn.CONCAT(Data!$B$2," Cash Book") -> Cash Book
A3: Year | B3: =Data!$B$3 -> 0
A4: Month | B4: =Data!$B$6 -> 0
A6: Date | B6: Description | C6: Pay In (Bank Ref) | D6: Total Amount | E6: =Data!$B$18 -> 0 | F6: =Data!$B$19 -> 0 | G6: =Data!$B$20 -> 0 | H6: =Data!$B$21 -> 0 | I6: =Data!$B$22 -> 0 | J6: =Data!$B$23 -> 0 | K6: =Data!$B$24 -> 0 | L6: =Data!$B$25 -> 0 | M6: =Data!$B$26 -> 0 | N6: =Data!$B$27 -> 0 | O6: =Data!$B$28 -> 0 | P6: =Data!$B$29 -> 0 | Q6: =Data!$B$30 -> 0 | R6: =Data!$B$31 -> 0 | S6: =Data!$B$32 -> 0 | T6: =Data!$B$33 -> 0 | U6: =Data!$B$34 -> 0 | V6: =Data!$B$35 -> 0 | W6: =Data!$B$36 -> 0 | X6: =Data!$B$37 -> 0 | Y6: =Data!$B$38 -> 0 | Z6: =Data!$B$39 -> 0 | AA6: =Data!$B$40 -> 0 | AB6: =Data!$B$41 -> 0 | AC6: =Data!$B$42 -> 0 | AD6: =Data!$B$43 -> 0 | AE6: =Data!$B$44 -> 0 | AF6: =Data!$B$45 -> 0 | AG6: =Data!$B$46 -> 0 | AH6: =Data!$B$47 -> 0 | AJ6: Date | AK6: Description | AL6: (Bank Ref) | AM6: Total Amount | AN6: =Data!$B$50 -> 0 | AO6: =Data!$B$51 -> 0 | AP6: =Data!$B$52 -> 0 | AQ6: =Data!$B$53 -> 0 | AR6: =Data!$B$54 -> 0 | AS6: =Data!$B$55 -> 0 | AT6: =Data!$B$56 -> 0 | AU6: =Data!$B$57 -> 0 | AV6: =Data!$B$58 -> 0 | AW6: =Data!$B$59 -> 0 | AX6: =Data!$B$60 -> 0 | AY6: =Data!$B$61 -> 0 | AZ6: =Data!$B$62 -> 0 | BA6: =Data!$B$63 -> 0 | BB6: =Data!$B$64 -> 0 | BC6: =Data!$B$65 -> 0 | BD6: =Data!$B$66 -> 0 | BE6: =Data!$B$67 -> 0 | BF6: =Data!$B$68 -> 0 | BG6: =Data!$B$69 -> 0 | BH6: =Data!$B$70 -> 0 | BI6: =Data!$B$71 -> 0 | BJ6: =Data!$B$72 -> 0 | BK6: =Data!$B$73 -> 0 | BL6: =Data!$B$74 -> 0 | BM6: =Data!$B$75 -> 0 | BN6: =Data!$B$76 -> 0 | BO6: =Data!$B$77 -> 0 | BP6: =Data!$B$78 -> 0 | BQ6: =Data!$B$79 -> 0 | BR6: =Data!$B$80 -> 0 | BS6: =Data!$B$81 -> 0 | BT6: =Data!$B$82 -> 0 | BU6: =Data!$B$83 -> 0 | BV6: =Data!$B$84 -> 0 | BW6: =Data!$B$85 -> 0 | BX6: =Data!$B$86 -> 0 | BY6: =Data!$B$87 -> 0 | BZ6: =Data!$B$88 -> 0 | CA6: =Data!$B$89 -> 0 | CB6: =Data!$B$90 -> 0 | CC6: =Data!$B$91 -> 0 | CD6: =Data!$B$92 -> 0 | CE6: =Data!$B$93 -> 0 | CF6: =Data!$B$94 -> 0
A7: Income | AJ7: Expenditure
D8: =SUM(E8:AH8) -> 0 | AM8: =SUM(AN8:CF8) -> 0
D9: =SUM(E9:AH9) -> 0 | AM9: =SUM(AN9:CF9) -> 0
D10: =SUM(E10:AH10) -> 0 | AM10: =SUM(AN10:CF10) -> 0
D11: =SUM(E11:AH11) -> 0 | AM11: =SUM(AN11:CF11) -> 0
D12: =SUM(E12:AH12) -> 0 | AM12: =SUM(AN12:CF12) -> 0
D13: =SUM(E13:AH13) -> 0 | AM13: =SUM(AN13:CF13) -> 0
D14: =SUM(E14:AH14) -> 0 | AM14: =SUM(AN14:CF14) -> 0
D15: =SUM(E15:AH15) -> 0 | AM15: =SUM(AN15:CF15) -> 0
D16: =SUM(E16:AH16) -> 0 | AM16: =SUM(AN16:CF16) -> 0
D17: =SUM(E17:AH17) -> 0 | AM17: =SUM(AN17:CF17) -> 0
D18: =SUM(E18:AH18) -> 0 | AM18: =SUM(AN18:CF18) -> 0
D19: =SUM(E19:AH19) -> 0 | AM19: =SUM(AN19:CF19) -> 0
... D37: =SUM(E37:AH37) -> 0 | AM37: =SUM(AN37:CF37) -> 0
A38: TOTAL | D38: =SUM(D8:D37) -> 0 | E38: =SUM(E8:E37) -> 0 | F38: =SUM(F8:F37) -> 0 | G38: =SUM(G8:G37) -> 0 | H38: =SUM(H8:H37) -> 0 | I38: =SUM(I8:I37) -> 0 | J38: =SUM(J8:J37) -> 0 | K38: =SUM(K8:K37) -> 0 | ... AH38: =SUM(AH8:AH37) -> 0 | AM38: =SUM(AM8:AM37) -> 0 | AN38: =SUM(AN8:AN37) -> 0 | AO38: =SUM(AO8:AO37) -> 0 | AP38: =SUM(AP8:AP37) -> 0 | AQ38: =SUM(AQ8:AQ37) -> 0 | AR38: =SUM(AR8:AR37) -> 0 | AS38: =SUM(AS8:AS37) -> 0 | AT38: =SUM(AT8:AT37) -> 0 | ... CF38: =SUM(CF8:CF37) -> 0
A41: Month Summary
A42: Total Income | D42: =D38 -> 0
A43: Total Expenditure | D43: =AM38 -> 0
A44: Surplus / (Deficit) in Month | D44: =D42-D43 -> 0
A45: Surplus / (Deficit) YTD | D45: ='CB2'!D45+'CB3'!D44 -> 0

Sheet CB4
A1: =_xlfn.CONCAT(Data!$B$2," Cash Book") -> Cash Book
A3: Year | B3: =Data!$B$3 -> 0
A4: Month | B4: =Data!$B$7 -> 0
A6: Date | B6: Description | C6: Pay In (Bank Ref) | D6: Total Amount | E6: =Data!$B$18 -> 0 | F6: =Data!$B$19 -> 0 | G6: =Data!$B$20 -> 0 | H6: =Data!$B$21 -> 0 | I6: =Data!$B$22 -> 0 | J6: =Data!$B$23 -> 0 | K6: =Data!$B$24 -> 0 | L6: =Data!$B$25 -> 0 | M6: =Data!$B$26 -> 0 | N6: =Data!$B$27 -> 0 | O6: =Data!$B$28 -> 0 | P6: =Data!$B$29 -> 0 | Q6: =Data!$B$30 -> 0 | R6: =Data!$B$31 -> 0 | S6: =Data!$B$32 -> 0 | T6: =Data!$B$33 -> 0 | U6: =Data!$B$34 -> 0 | V6: =Data!$B$35 -> 0 | W6: =Data!$B$36 -> 0 | X6: =Data!$B$37 -> 0 | Y6: =Data!$B$38 -> 0 | Z6: =Data!$B$39 -> 0 | AA6: =Data!$B$40 -> 0 | AB6: =Data!$B$41 -> 0 | AC6: =Data!$B$42 -> 0 | AD6: =Data!$B$43 -> 0 | AE6: =Data!$B$44 -> 0 | AF6: =Data!$B$45 -> 0 | AG6: =Data!$B$46 -> 0 | AH6: =Data!$B$47 -> 0 | AJ6: Date | AK6: Description | AL6: (Bank Ref) | AM6: Total Amount | AN6: =Data!$B$50 -> 0 | AO6: =Data!$B$51 -> 0 | AP6: =Data!$B$52 -> 0 | AQ6: =Data!$B$53 -> 0 | AR6: =Data!$B$54 -> 0 | AS6: =Data!$B$55 -> 0 | AT6: =Data!$B$56 -> 0 | AU6: =Data!$B$57 -> 0 | AV6: =Data!$B$58 -> 0 | AW6: =Data!$B$59 -> 0 | AX6: =Data!$B$60 -> 0 | AY6: =Data!$B$61 -> 0 | AZ6: =Data!$B$62 -> 0 | BA6: =Data!$B$63 -> 0 | BB6: =Data!$B$64 -> 0 | BC6: =Data!$B$65 -> 0 | BD6: =Data!$B$66 -> 0 | BE6: =Data!$B$67 -> 0 | BF6: =Data!$B$68 -> 0 | BG6: =Data!$B$69 -> 0 | BH6: =Data!$B$70 -> 0 | BI6: =Data!$B$71 -> 0 | BJ6: =Data!$B$72 -> 0 | BK6: =Data!$B$73 -> 0 | BL6: =Data!$B$74 -> 0 | BM6: =Data!$B$75 -> 0 | BN6: =Data!$B$76 -> 0 | BO6: =Data!$B$77 -> 0 | BP6: =Data!$B$78 -> 0 | BQ6: =Data!$B$79 -> 0 | BR6: =Data!$B$80 -> 0 | BS6: =Data!$B$81 -> 0 | BT6: =Data!$B$82 -> 0 | BU6: =Data!$B$83 -> 0 | BV6: =Data!$B$84 -> 0 | BW6: =Data!$B$85 -> 0 | BX6: =Data!$B$86 -> 0 | BY6: =Data!$B$87 -> 0 | BZ6: =Data!$B$88 -> 0 | CA6: =Data!$B$89 -> 0 | CB6: =Data!$B$90 -> 0 | CC6: =Data!$B$91 -> 0 | CD6: =Data!$B$92 -> 0 | CE6: =Data!$B$93 -> 0 | CF6: =Data!$B$94 -> 0
A7: Income | AJ7: Expenditure
D8: =SUM(E8:AH8) -> 0 | AM8: =SUM(AN8:CF8) -> 0
D9: =SUM(E9:AH9) -> 0 | AM9: =SUM(AN9:CF9) -> 0
D10: =SUM(E10:AH10) -> 0 | AM10: =SUM(AN10:CF10) -> 0
D11: =SUM(E11:AH11) -> 0 | AM11: =SUM(AN11:CF11) -> 0
D12: =SUM(E12:AH12) -> 0 | AM12: =SUM(AN12:CF12) -> 0
D13: =SUM(E13:AH13) -> 0 | AM13: =SUM(AN13:CF13) -> 0
D14: =SUM(E14:AH14) -> 0 | AM14: =SUM(AN14:CF14) -> 0
D15: =SUM(E15:AH15) -> 0 | AM15: =SUM(AN15:CF15) -> 0
D16: =SUM(E16:AH16) -> 0 | AM16: =SUM(AN16:CF16) -> 0
D17: =SUM(E17:AH17) -> 0 | AM17: =SUM(AN17:CF17) -> 0
D18: =SUM(E18:AH18) -> 0 | AM18: =SUM(AN18:CF18) -> 0
D19: =SUM(E19:AH19) -> 0 | AM19: =SUM(AN19:CF19) -> 0
... D37: =SUM(E37:AH37) -> 0 | AM37: =SUM(AN37:CF37) -> 0
A38: TOTAL | D38: =SUM(D8:D37) -> 0 | E38: =SUM(E8:E37) -> 0 | F38: =SUM(F8:F37) -> 0 | G38: =SUM(G8:G37) -> 0 | H38: =SUM(H8:H37) -> 0 | I38: =SUM(I8:I37) -> 0 | J38: =SUM(J8:J37) -> 0 | K38: =SUM(K8:K37) -> 0 | ... AH38: =SUM(AH8:AH37) -> 0 | AM38: =SUM(AM8:AM37) -> 0 | AN38: =SUM(AN8:AN37) -> 0 | AO38: =SUM(AO8:AO37) -> 0 | AP38: =SUM(AP8:AP37) -> 0 | AQ38: =SUM(AQ8:AQ37) -> 0 | AR38: =SUM(AR8:AR37) -> 0 | AS38: =SUM(AS8:AS37) -> 0 | AT38: =SUM(AT8:AT37) -> 0 | ... CF38: =SUM(CF8:CF37) -> 0
A41: Month Summary
A42: Total Income | D42: =D38 -> 0
A43: Total Expenditure | D43: =AM38 -> 0
A44: Surplus / (Deficit) in Month | D44: =D42-D43 -> 0
A45: Surplus / (Deficit) YTD | D45: ='CB3'!D45+'CB4'!D44 -> 0

Sheet CB5
A1: =_xlfn.CONCAT(Data!$B$2," Cash Book") -> Cash Book
A3: Year | B3: =Data!$B$3 -> 0
A4: Month | B4: =Data!$B$8 -> 0
A6: Date | B6: Description | C6: Pay In (Bank Ref) | D6: Total Amount | E6: =Data!$B$18 -> 0 | F6: =Data!$B$19 -> 0 | G6: =Data!$B$20 -> 0 | H6: =Data!$B$21 -> 0 | I6: =Data!$B$22 -> 0 | J6: =Data!$B$23 -> 0 | K6: =Data!$B$24 -> 0 | L6: =Data!$B$25 -> 0 | M6: =Data!$B$26 -> 0 | N6: =Data!$B$27 -> 0 | O6: =Data!$B$28 -> 0 | P6: =Data!$B$29 -> 0 | Q6: =Data!$B$30 -> 0 | R6: =Data!$B$31 -> 0 | S6: =Data!$B$32 -> 0 | T6: =Data!$B$33 -> 0 | U6: =Data!$B$34 -> 0 | V6: =Data!$B$35 -> 0 | W6: =Data!$B$36 -> 0 | X6: =Data!$B$37 -> 0 | Y6: =Data!$B$38 -> 0 | Z6: =Data!$B$39 -> 0 | AA6: =Data!$B$40 -> 0 | AB6: =Data!$B$41 -> 0 | AC6: =Data!$B$42 -> 0 | AD6: =Data!$B$43 -> 0 | AE6: =Data!$B$44 -> 0 | AF6: =Data!$B$45 -> 0 | AG6: =Data!$B$46 -> 0 | AH6: =Data!$B$47 -> 0 | AJ6: Date | AK6: Description | AL6: (Bank Ref) | AM6: Total Amount | AN6: =Data!$B$50 -> 0 | AO6: =Data!$B$51 -> 0 | AP6: =Data!$B$52 -> 0 | AQ6: =Data!$B$53 -> 0 | AR6: =Data!$B$54 -> 0 | AS6: =Data!$B$55 -> 0 | AT6: =Data!$B$56 -> 0 | AU6: =Data!$B$57 -> 0 | AV6: =Data!$B$58 -> 0 | AW6: =Data!$B$59 -> 0 | AX6: =Data!$B$60 -> 0 | AY6: =Data!$B$61 -> 0 | AZ6: =Data!$B$62 -> 0 | BA6: =Data!$B$63 -> 0 | BB6: =Data!$B$64 -> 0 | BC6: =Data!$B$65 -> 0 | BD6: =Data!$B$66 -> 0 | BE6: =Data!$B$67 -> 0 | BF6: =Data!$B$68 -> 0 | BG6: =Data!$B$69 -> 0 | BH6: =Data!$B$70 -> 0 | BI6: =Data!$B$71 -> 0 | BJ6: =Data!$B$72 -> 0 | BK6: =Data!$B$73 -> 0 | BL6: =Data!$B$74 -> 0 | BM6: =Data!$B$75 -> 0 | BN6: =Data!$B$76 -> 0 | BO6: =Data!$B$77 -> 0 | BP6: =Data!$B$78 -> 0 | BQ6: =Data!$B$79 -> 0 | BR6: =Data!$B$80 -> 0 | BS6: =Data!$B$81 -> 0 | BT6: =Data!$B$82 -> 0 | BU6: =Data!$B$83 -> 0 | BV6: =Data!$B$84 -> 0 | BW6: =Data!$B$85 -> 0 | BX6: =Data!$B$86 -> 0 | BY6: =Data!$B$87 -> 0 | BZ6: =Data!$B$88 -> 0 | CA6: =Data!$B$89 -> 0 | CB6: =Data!$B$90 -> 0 | CC6: =Data!$B$91 -> 0 | CD6: =Data!$B$92 -> 0 | CE6: =Data!$B$93 -> 0 | CF6: =Data!$B$94 -> 0
A7: Income | AJ7: Expenditure
D8: =SUM(E8:AH8) -> 0 | AM8: =SUM(AN8:CF8) -> 0
D9: =SUM(E9:AH9) -> 0 | AM9: =SUM(AN9:CF9) -> 0
D10: =SUM(E10:AH10) -> 0 | AM10: =SUM(AN10:CF10) -> 0
D11: =SUM(E11:AH11) -> 0 | AM11: =SUM(AN11:CF11) -> 0
D12: =SUM(E12:AH12) -> 0 | AM12: =SUM(AN12:CF12) -> 0
D13: =SUM(E13:AH13) -> 0 | AM13: =SUM(AN13:CF13) -> 0
D14: =SUM(E14:AH14) -> 0 | AM14: =SUM(AN14:CF14) -> 0
D15: =SUM(E15:AH15) -> 0 | AM15: =SUM(AN15:CF15) -> 0
D16: =SUM(E16:AH16) -> 0 | AM16: =SUM(AN16:CF16) -> 0
D17: =SUM(E17:AH17) -> 0 | AM17: =SUM(AN17:CF17) -> 0
D18: =SUM(E18:AH18) -> 0 | AM18: =SUM(AN18:CF18) -> 0
D19: =SUM(E19:AH19) -> 0 | AM19: =SUM(AN19:CF19) -> 0
... D37: =SUM(E37:AH37) -> 0 | AM37: =SUM(AN37:CF37) -> 0
A38: TOTAL | D38: =SUM(D8:D37) -> 0 | E38: =SUM(E8:E37) -> 0 | F38: =SUM(F8:F37) -> 0 | G38: =SUM(G8:G37) -> 0 | H38: =SUM(H8:H37) -> 0 | I38: =SUM(I8:I37) -> 0 | J38: =SUM(J8:J37) -> 0 | K38: =SUM(K8:K37) -> 0 | ... AH38: =SUM(AH8:AH37) -> 0 | AM38: =SUM(AM8:AM37) -> 0 | AN38: =SUM(AN8:AN37) -> 0 | AO38: =SUM(AO8:AO37) -> 0 | AP38: =SUM(AP8:AP37) -> 0 | AQ38: =SUM(AQ8:AQ37) -> 0 | AR38: =SUM(AR8:AR37) -> 0 | AS38: =SUM(AS8:AS37) -> 0 | AT38: =SUM(AT8:AT37) -> 0 | ... CF38: =SUM(CF8:CF37) -> 0
A41: Month Summary
A42: Total Income | D42: =D38 -> 0
A43: Total Expenditure | D43: =AM38 -> 0
A44: Surplus / (Deficit) in Month | D44: =D42-D43 -> 0
A45: Surplus / (Deficit) YTD | D45: ='CB4'!D45+'CB5'!D44 -> 0

Sheet CB6
A1: =_xlfn.CONCAT(Data!$B$2," Cash Book") -> Cash Book
A3: Year | B3: =Data!$B$3 -> 0
A4: Month | B4: =Data!$B$9 -> 0
A6: Date | B6: Description | C6: Pay In (Bank Ref) | D6: Total Amount | E6: =Data!$B$18 -> 0 | F6: =Data!$B$19 -> 0 | G6: =Data!$B$20 -> 0 | H6: =Data!$B$21 -> 0 | I6: =Data!$B$22 -> 0 | J6: =Data!$B$23 -> 0 | K6: =Data!$B$24 -> 0 | L6: =Data!$B$25 -> 0 | M6: =Data!$B$26 -> 0 | N6: =Data!$B$27 -> 0 | O6: =Data!$B$28 -> 0 | P6: =Data!$B$29 -> 0 | Q6: =Data!$B$30 -> 0 | R6: =Data!$B$31 -> 0 | S6: =Data!$B$32 -> 0 | T6: =Data!$B$33 -> 0 | U6: =Data!$B$34 -> 0 | V6: =Data!$B$35 -> 0 | W6: =Data!$B$36 -> 0 | X6: =Data!$B$37 -> 0 | Y6: =Data!$B$38 -> 0 | Z6: =Data!$B$39 -> 0 | AA6: =Data!$B$40 -> 0 | AB6: =Data!$B$41 -> 0 | AC6: =Data!$B$42 -> 0 | AD6: =Data!$B$43 -> 0 | AE6: =Data!$B$44 -> 0 | AF6: =Data!$B$45 -> 0 | AG6: =Data!$B$46 -> 0 | AH6: =Data!$B$47 -> 0 | AJ6: Date | AK6: Description | AL6: (Bank Ref) | AM6: Total Amount | AN6: =Data!$B$50 -> 0 | AO6: =Data!$B$51 -> 0 | AP6: =Data!$B$52 -> 0 | AQ6: =Data!$B$53 -> 0 | AR6: =Data!$B$54 -> 0 | AS6: =Data!$B$55 -> 0 | AT6: =Data!$B$56 -> 0 | AU6: =Data!$B$57 -> 0 | AV6: =Data!$B$58 -> 0 | AW6: =Data!$B$59 -> 0 | AX6: =Data!$B$60 -> 0 | AY6: =Data!$B$61 -> 0 | AZ6: =Data!$B$62 -> 0 | BA6: =Data!$B$63 -> 0 | BB6: =Data!$B$64 -> 0 | BC6: =Data!$B$65 -> 0 | BD6: =Data!$B$66 -> 0 | BE6: =Data!$B$67 -> 0 | BF6: =Data!$B$68 -> 0 | BG6: =Data!$B$69 -> 0 | BH6: =Data!$B$70 -> 0 | BI6: =Data!$B$71 -> 0 | BJ6: =Data!$B$72 -> 0 | BK6: =Data!$B$73 -> 0 | BL6: =Data!$B$74 -> 0 | BM6: =Data!$B$75 -> 0 | BN6: =Data!$B$76 -> 0 | BO6: =Data!$B$77 -> 0 | BP6: =Data!$B$78 -> 0 | BQ6: =Data!$B$79 -> 0 | BR6: =Data!$B$80 -> 0 | BS6: =Data!$B$81 -> 0 | BT6: =Data!$B$82 -> 0 | BU6: =Data!$B$83 -> 0 | BV6: =Data!$B$84 -> 0 | BW6: =Data!$B$85 -> 0 | BX6: =Data!$B$86 -> 0 | BY6: =Data!$B$87 -> 0 | BZ6: =Data!$B$88 -> 0 | CA6: =Data!$B$89 -> 0 | CB6: =Data!$B$90 -> 0 | CC6: =Data!$B$91 -> 0 | CD6: =Data!$B$92 -> 0 | CE6: =Data!$B$93 -> 0 | CF6: =Data!$B$94 -> 0
A7: Income | AJ7: Expenditure
D8: =SUM(E8:AH8) -> 0 | AM8: =SUM(AN8:CF8) -> 0
D9: =SUM(E9:AH9) -> 0 | AM9: =SUM(AN9:CF9) -> 0
D10: =SUM(E10:AH10) -> 0 | AM10: =SUM(AN10:CF10) -> 0
D11: =SUM(E11:AH11) -> 0 | AM11: =SUM(AN11:CF11) -> 0
D12: =SUM(E12:AH12) -> 0 | AM12: =SUM(AN12:CF12) -> 0
D13: =SUM(E13:AH13) -> 0 | AM13: =SUM(AN13:CF13) -> 0
D14: =SUM(E14:AH14) -> 0 | AM14: =SUM(AN14:CF14) -> 0
D15: =SUM(E15:AH15) -> 0 | AM15: =SUM(AN15:CF15) -> 0
D16: =SUM(E16:AH16) -> 0 | AM16: =SUM(AN16:CF16) -> 0
D17: =SUM(E17:AH17) -> 0 | AM17: =SUM(AN17:CF17) -> 0
D18: =SUM(E18:AH18) -> 0 | AM18: =SUM(AN18:CF18) -> 0
D19: =SUM(E19:AH19) -> 0 | AM19: =SUM(AN19:CF19) -> 0
... D37: =SUM(E37:AH37) -> 0 | AM37: =SUM(AN37:CF37) -> 0
A38: TOTAL | D38: =SUM(D8:D37) -> 0 | E38: =SUM(E8:E37) -> 0 | F38: =SUM(F8:F37) -> 0 | G38: =SUM(G8:G37) -> 0 | H38: =SUM(H8:H37) -> 0 | I38: =SUM(I8:I37) -> 0 | J38: =SUM(J8:J37) -> 0 | K38: =SUM(K8:K37) -> 0 | ... AH38: =SUM(AH8:AH37) -> 0 | AM38: =SUM(AM8:AM37) -> 0 | AN38: =SUM(AN8:AN37) -> 0 | AO38: =SUM(AO8:AO37) -> 0 | AP38: =SUM(AP8:AP37) -> 0 | AQ38: =SUM(AQ8:AQ37) -> 0 | AR38: =SUM(AR8:AR37) -> 0 | AS38: =SUM(AS8:AS37) -> 0 | AT38: =SUM(AT8:AT37) -> 0 | ... CF38: =SUM(CF8:CF37) -> 0
A41: Month Summary
A42: Total Income | D42: =D38 -> 0
A43: Total Expenditure | D43: =AM38 -> 0
A44: Surplus / (Deficit) in Month | D44: =D42-D43 -> 0
A45: Surplus / (Deficit) YTD | D45: ='CB5'!D45+'CB6'!D44 -> 0

Sheet CB7
A1: =_xlfn.CONCAT(Data!$B$2," Cash Book") -> Cash Book
A3: Year | B3: =Data!$B$3 -> 0
A4: Month | B4: =Data!$B$10 -> 0
A6: Date | B6: Description | C6: Pay In (Bank Ref) | D6: Total Amount | E6: =Data!$B$18 -> 0 | F6: =Data!$B$19 -> 0 | G6: =Data!$B$20 -> 0 | H6: =Data!$B$21 -> 0 | I6: =Data!$B$22 -> 0 | J6: =Data!$B$23 -> 0 | K6: =Data!$B$24 -> 0 | L6: =Data!$B$25 -> 0 | M6: =Data!$B$26 -> 0 | N6: =Data!$B$27 -> 0 | O6: =Data!$B$28 -> 0 | P6: =Data!$B$29 -> 0 | Q6: =Data!$B$30 -> 0 | R6: =Data!$B$31 -> 0 | S6: =Data!$B$32 -> 0 | T6: =Data!$B$33 -> 0 | U6: =Data!$B$34 -> 0 | V6: =Data!$B$35 -> 0 | W6: =Data!$B$36 -> 0 | X6: =Data!$B$37 -> 0 | Y6: =Data!$B$38 -> 0 | Z6: =Data!$B$39 -> 0 | AA6: =Data!$B$40 -> 0 | AB6: =Data!$B$41 -> 0 | AC6: =Data!$B$42 -> 0 | AD6: =Data!$B$43 -> 0 | AE6: =Data!$B$44 -> 0 | AF6: =Data!$B$45 -> 0 | AG6: =Data!$B$46 -> 0 | AH6: =Data!$B$47 -> 0 | AJ6: Date | AK6: Description | AL6: (Bank Ref) | AM6: Total Amount | AN6: =Data!$B$50 -> 0 | AO6: =Data!$B$51 -> 0 | AP6: =Data!$B$52 -> 0 | AQ6: =Data!$B$53 -> 0 | AR6: =Data!$B$54 -> 0 | AS6: =Data!$B$55 -> 0 | AT6: =Data!$B$56 -> 0 | AU6: =Data!$B$57 -> 0 | AV6: =Data!$B$58 -> 0 | AW6: =Data!$B$59 -> 0 | AX6: =Data!$B$60 -> 0 | AY6: =Data!$B$61 -> 0 | AZ6: =Data!$B$62 -> 0 | BA6: =Data!$B$63 -> 0 | BB6: =Data!$B$64 -> 0 | BC6: =Data!$B$65 -> 0 | BD6: =Data!$B$66 -> 0 | BE6: =Data!$B$67 -> 0 | BF6: =Data!$B$68 -> 0 | BG6: =Data!$B$69 -> 0 | BH6: =Data!$B$70 -> 0 | BI6: =Data!$B$71 -> 0 | BJ6: =Data!$B$72 -> 0 | BK6: =Data!$B$73 -> 0 | BL6: =Data!$B$74 -> 0 | BM6: =Data!$B$75 -> 0 | BN6: =Data!$B$76 -> 0 | BO6: =Data!$B$77 -> 0 | BP6: =Data!$B$78 -> 0 | BQ6: =Data!$B$79 -> 0 | BR6: =Data!$B$80 -> 0 | BS6: =Data!$B$81 -> 0 | BT6: =Data!$B$82 -> 0 | BU6: =Data!$B$83 -> 0 | BV6: =Data!$B$84 -> 0 | BW6: =Data!$B$85 -> 0 | BX6: =Data!$B$86 -> 0 | BY6: =Data!$B$87 -> 0 | BZ6: =Data!$B$88 -> 0 | CA6: =Data!$B$89 -> 0 | CB6: =Data!$B$90 -> 0 | CC6: =Data!$B$91 -> 0 | CD6: =Data!$B$92 -> 0 | CE6: =Data!$B$93 -> 0 | CF6: =Data!$B$94 -> 0
A7: Income | AJ7: Expenditure
D8: =SUM(E8:AH8) -> 0 | AM8: =SUM(AN8:CF8) -> 0
D9: =SUM(E9:AH9) -> 0 | AM9: =SUM(AN9:CF9) -> 0
D10: =SUM(E10:AH10) -> 0 | AM10: =SUM(AN10:CF10) -> 0
D11: =SUM(E11:AH11) -> 0 | AM11: =SUM(AN11:CF11) -> 0
D12: =SUM(E12:AH12) -> 0 | AM12: =SUM(AN12:CF12) -> 0
D13: =SUM(E13:AH13) -> 0 | AM13: =SUM(AN13:CF13) -> 0
D14: =SUM(E14:AH14) -> 0 | AM14: =SUM(AN14:CF14) -> 0
D15: =SUM(E15:AH15) -> 0 | AM15: =SUM(AN15:CF15) -> 0
D16: =SUM(E16:AH16) -> 0 | AM16: =SUM(AN16:CF16) -> 0
D17: =SUM(E17:AH17) -> 0 | AM17: =SUM(AN17:CF17) -> 0
D18: =SUM(E18:AH18) -> 0 | AM18: =SUM(AN18:CF18) -> 0
D19: =SUM(E19:AH19) -> 0 | AM19: =SUM(AN19:CF19) -> 0
... D37: =SUM(E37:AH37) -> 0 | AM37: =SUM(AN37:CF37) -> 0
A38: TOTAL | D38: =SUM(D8:D37) -> 0 | E38: =SUM(E8:E37) -> 0 | F38: =SUM(F8:F37) -> 0 | G38: =SUM(G8:G37) -> 0 | H38: =SUM(H8:H37) -> 0 | I38: =SUM(I8:I37) -> 0 | J38: =SUM(J8:J37) -> 0 | K38: =SUM(K8:K37) -> 0 | ... AH38: =SUM(AH8:AH37) -> 0 | AM38: =SUM(AM8:AM37) -> 0 | AN38: =SUM(AN8:AN37) -> 0 | AO38: =SUM(AO8:AO37) -> 0 | AP38: =SUM(AP8:AP37) -> 0 | AQ38: =SUM(AQ8:AQ37) -> 0 | AR38: =SUM(AR8:AR37) -> 0 | AS38: =SUM(AS8:AS37) -> 0 | AT38: =SUM(AT8:AT37) -> 0 | ... CF38: =SUM(CF8:CF37) -> 0
A41: Month Summary
A42: Total Income | D42: =D38 -> 0
A43: Total Expenditure | D43: =AM38 -> 0
A44: Surplus / (Deficit) in Month | D44: =D42-D43 -> 0
A45: Surplus / (Deficit) YTD | D45: ='CB6'!D45+'CB7'!D44 -> 0

Sheet CB8
A1: =_xlfn.CONCAT(Data!$B$2," Cash Book") -> Cash Book
A3: Year | B3: =Data!$B$3 -> 0
A4: Month | B4: =Data!$B$11 -> 0
A6: Date | B6: Description | C6: Pay In (Bank Ref) | D6: Total Amount | E6: =Data!$B$18 -> 0 | F6: =Data!$B$19 -> 0 | G6: =Data!$B$20 -> 0 | H6: =Data!$B$21 -> 0 | I6: =Data!$B$22 -> 0 | J6: =Data!$B$23 -> 0 | K6: =Data!$B$24 -> 0 | L6: =Data!$B$25 -> 0 | M6: =Data!$B$26 -> 0 | N6: =Data!$B$27 -> 0 | O6: =Data!$B$28 -> 0 | P6: =Data!$B$29 -> 0 | Q6: =Data!$B$30 -> 0 | R6: =Data!$B$31 -> 0 | S6: =Data!$B$32 -> 0 | T6: =Data!$B$33 -> 0 | U6: =Data!$B$34 -> 0 | V6: =Data!$B$35 -> 0 | W6: =Data!$B$36 -> 0 | X6: =Data!$B$37 -> 0 | Y6: =Data!$B$38 -> 0 | Z6: =Data!$B$39 -> 0 | AA6: =Data!$B$40 -> 0 | AB6: =Data!$B$41 -> 0 | AC6: =Data!$B$42 -> 0 | AD6: =Data!$B$43 -> 0 | AE6: =Data!$B$44 -> 0 | AF6: =Data!$B$45 -> 0 | AG6: =Data!$B$46 -> 0 | AH6: =Data!$B$47 -> 0 | AJ6: Date | AK6: Description | AL6: (Bank Ref) | AM6: Total Amount | AN6: =Data!$B$50 -> 0 | AO6: =Data!$B$51 -> 0 | AP6: =Data!$B$52 -> 0 | AQ6: =Data!$B$53 -> 0 | AR6: =Data!$B$54 -> 0 | AS6: =Data!$B$55 -> 0 | AT6: =Data!$B$56 -> 0 | AU6: =Data!$B$57 -> 0 | AV6: =Data!$B$58 -> 0 | AW6: =Data!$B$59 -> 0 | AX6: =Data!$B$60 -> 0 | AY6: =Data!$B$61 -> 0 | AZ6: =Data!$B$62 -> 0 | BA6: =Data!$B$63 -> 0 | BB6: =Data!$B$64 -> 0 | BC6: =Data!$B$65 -> 0 | BD6: =Data!$B$66 -> 0 | BE6: =Data!$B$67 -> 0 | BF6: =Data!$B$68 -> 0 | BG6: =Data!$B$69 -> 0 | BH6: =Data!$B$70 -> 0 | BI6: =Data!$B$71 -> 0 | BJ6: =Data!$B$72 -> 0 | BK6: =Data!$B$73 -> 0 | BL6: =Data!$B$74 -> 0 | BM6: =Data!$B$75 -> 0 | BN6: =Data!$B$76 -> 0 | BO6: =Data!$B$77 -> 0 | BP6: =Data!$B$78 -> 0 | BQ6: =Data!$B$79 -> 0 | BR6: =Data!$B$80 -> 0 | BS6: =Data!$B$81 -> 0 | BT6: =Data!$B$82 -> 0 | BU6: =Data!$B$83 -> 0 | BV6: =Data!$B$84 -> 0 | BW6: =Data!$B$85 -> 0 | BX6: =Data!$B$86 -> 0 | BY6: =Data!$B$87 -> 0 | BZ6: =Data!$B$88 -> 0 | CA6: =Data!$B$89 -> 0 | CB6: =Data!$B$90 -> 0 | CC6: =Data!$B$91 -> 0 | CD6: =Data!$B$92 -> 0 | CE6: =Data!$B$93 -> 0 | CF6: =Data!$B$94 -> 0
A7: Income | AJ7: Expenditure
D8: =SUM(E8:AH8) -> 0 | AM8: =SUM(AN8:CF8) -> 0
D9: =SUM(E9:AH9) -> 0 | AM9: =SUM(AN9:CF9) -> 0
D10: =SUM(E10:AH10) -> 0 | AM10: =SUM(AN10:CF10) -> 0
D11: =SUM(E11:AH11) -> 0 | AM11: =SUM(AN11:CF11) -> 0
D12: =SUM(E12:AH12) -> 0 | AM12: =SUM(AN12:CF12) -> 0
D13: =SUM(E13:AH13) -> 0 | AM13: =SUM(AN13:CF13) -> 0
D14: =SUM(E14:AH14) -> 0 | AM14: =SUM(AN14:CF14) -> 0
D15: =SUM(E15:AH15) -> 0 | AM15: =SUM(AN15:CF15) -> 0
D16: =SUM(E16:AH16) -> 0 | AM16: =SUM(AN16:CF16) -> 0
D17: =SUM(E17:AH17) -> 0 | AM17: =SUM(AN17:CF17) -> 0
D18: =SUM(E18:AH18) -> 0 | AM18: =SUM(AN18:CF18) -> 0
D19: =SUM(E19:AH19) -> 0 | AM19: =SUM(AN19:CF19) -> 0
... D37: =SUM(E37:AH37) -> 0 | AM37: =SUM(AN37:CF37) -> 0
A38: TOTAL | D38: =SUM(D8:D37) -> 0 | E38: =SUM(E8:E37) -> 0 | F38: =SUM(F8:F37) -> 0 | G38: =SUM(G8:G37) -> 0 | H38: =SUM(H8:H37) -> 0 | I38: =SUM(I8:I37) -> 0 | J38: =SUM(J8:J37) -> 0 | K38: =SUM(K8:K37) -> 0 | ... AH38: =SUM(AH8:AH37) -> 0 | AM38: =SUM(AM8:AM37) -> 0 | AN38: =SUM(AN8:AN37) -> 0 | AO38: =SUM(AO8:AO37) -> 0 | AP38: =SUM(AP8:AP37) -> 0 | AQ38: =SUM(AQ8:AQ37) -> 0 | AR38: =SUM(AR8:AR37) -> 0 | AS38: =SUM(AS8:AS37) -> 0 | AT38: =SUM(AT8:AT37) -> 0 | ... CF38: =SUM(CF8:CF37) -> 0
A41: Month Summary
A42: Total Income | D42: =D38 -> 0
A43: Total Expenditure | D43: =AM38 -> 0
A44: Surplus / (Deficit) in Month | D44: =D42-D43 -> 0
A45: Surplus / (Deficit) YTD | D45: ='CB7'!D45+'CB8'!D44 -> 0

Sheet CB9
A1: =_xlfn.CONCAT(Data!$B$2," Cash Book") -> Cash Book
A3: Year | B3: =Data!$B$3 -> 0
A4: Month | B4: =Data!$B$12 -> 0
A6: Date | B6: Description | C6: Pay In (Bank Ref) | D6: Total Amount | E6: =Data!$B$18 -> 0 | F6: =Data!$B$19 -> 0 | G6: =Data!$B$20 -> 0 | H6: =Data!$B$21 -> 0 | I6: =Data!$B$22 -> 0 | J6: =Data!$B$23 -> 0 | K6: =Data!$B$24 -> 0 | L6: =Data!$B$25 -> 0 | M6: =Data!$B$26 -> 0 | N6: =Data!$B$27 -> 0 | O6: =Data!$B$28 -> 0 | P6: =Data!$B$29 -> 0 | Q6: =Data!$B$30 -> 0 | R6: =Data!$B$31 -> 0 | S6: =Data!$B$32 -> 0 | T6: =Data!$B$33 -> 0 | U6: =Data!$B$34 -> 0 | V6: =Data!$B$35 -> 0 | W6: =Data!$B$36 -> 0 | X6: =Data!$B$37 -> 0 | Y6: =Data!$B$38 -> 0 | Z6: =Data!$B$39 -> 0 | AA6: =Data!$B$40 -> 0 | AB6: =Data!$B$41 -> 0 | AC6: =Data!$B$42 -> 0 | AD6: =Data!$B$43 -> 0 | AE6: =Data!$B$44 -> 0 | AF6: =Data!$B$45 -> 0 | AG6: =Data!$B$46 -> 0 | AH6: =Data!$B$47 -> 0 | AJ6: Date | AK6: Description | AL6: (Bank Ref) | AM6: Total Amount | AN6: =Data!$B$50 -> 0 | AO6: =Data!$B$51 -> 0 | AP6: =Data!$B$52 -> 0 | AQ6: =Data!$B$53 -> 0 | AR6: =Data!$B$54 -> 0 | AS6: =Data!$B$55 -> 0 | AT6: =Data!$B$56 -> 0 | AU6: =Data!$B$57 -> 0 | AV6: =Data!$B$58 -> 0 | AW6: =Data!$B$59 -> 0 | AX6: =Data!$B$60 -> 0 | AY6: =Data!$B$61 -> 0 | AZ6: =Data!$B$62 -> 0 | BA6: =Data!$B$63 -> 0 | BB6: =Data!$B$64 -> 0 | BC6: =Data!$B$65 -> 0 | BD6: =Data!$B$66 -> 0 | BE6: =Data!$B$67 -> 0 | BF6: =Data!$B$68 -> 0 | BG6: =Data!$B$69 -> 0 | BH6: =Data!$B$70 -> 0 | BI6: =Data!$B$71 -> 0 | BJ6: =Data!$B$72 -> 0 | BK6: =Data!$B$73 -> 0 | BL6: =Data!$B$74 -> 0 | BM6: =Data!$B$75 -> 0 | BN6: =Data!$B$76 -> 0 | BO6: =Data!$B$77 -> 0 | BP6: =Data!$B$78 -> 0 | BQ6: =Data!$B$79 -> 0 | BR6: =Data!$B$80 -> 0 | BS6: =Data!$B$81 -> 0 | BT6: =Data!$B$82 -> 0 | BU6: =Data!$B$83 -> 0 | BV6: =Data!$B$84 -> 0 | BW6: =Data!$B$85 -> 0 | BX6: =Data!$B$86 -> 0 | BY6: =Data!$B$87 -> 0 | BZ6: =Data!$B$88 -> 0 | CA6: =Data!$B$89 -> 0 | CB6: =Data!$B$90 -> 0 | CC6: =Data!$B$91 -> 0 | CD6: =Data!$B$92 -> 0 | CE6: =Data!$B$93 -> 0 | CF6: =Data!$B$94 -> 0
A7: Income | AJ7: Expenditure
D8: =SUM(E8:AH8) -> 0 | AM8: =SUM(AN8:CF8) -> 0
D9: =SUM(E9:AH9) -> 0 | AM9: =SUM(AN9:CF9) -> 0
D10: =SUM(E10:AH10) -> 0 | AM10: =SUM(AN10:CF10) -> 0
D11: =SUM(E11:AH11) -> 0 | AM11: =SUM(AN11:CF11) -> 0
D12: =SUM(E12:AH12) -> 0 | AM12: =SUM(AN12:CF12) -> 0
D13: =SUM(E13:AH13) -> 0 | AM13: =SUM(AN13:CF13) -> 0
D14: =SUM(E14:AH14) -> 0 | AM14: =SUM(AN14:CF14) -> 0
D15: =SUM(E15:AH15) -> 0 | AM15: =SUM(AN15:CF15) -> 0
D16: =SUM(E16:AH16) -> 0 | AM16: =SUM(AN16:CF16) -> 0
D17: =SUM(E17:AH17) -> 0 | AM17: =SUM(AN17:CF17) -> 0
D18: =SUM(E18:AH18) -> 0 | AM18: =SUM(AN18:CF18) -> 0
D19: =SUM(E19:AH19) -> 0 | AM19: =SUM(AN19:CF19) -> 0
... D37: =SUM(E37:AH37) -> 0 | AM37: =SUM(AN37:CF37) -> 0
A38: TOTAL | D38: =SUM(D8:D37) -> 0 | E38: =SUM(E8:E37) -> 0 | F38: =SUM(F8:F37) -> 0 | G38: =SUM(G8:G37) -> 0 | H38: =SUM(H8:H37) -> 0 | I38: =SUM(I8:I37) -> 0 | J38: =SUM(J8:J37) -> 0 | K38: =SUM(K8:K37) -> 0 | ... AH38: =SUM(AH8:AH37) -> 0 | AM38: =SUM(AM8:AM37) -> 0 | AN38: =SUM(AN8:AN37) -> 0 | AO38: =SUM(AO8:AO37) -> 0 | AP38: =SUM(AP8:AP37) -> 0 | AQ38: =SUM(AQ8:AQ37) -> 0 | AR38: =SUM(AR8:AR37) -> 0 | AS38: =SUM(AS8:AS37) -> 0 | AT38: =SUM(AT8:AT37) -> 0 | ... CF38: =SUM(CF8:CF37) -> 0
A41: Month Summary
A42: Total Income | D42: =D38 -> 0
A43: Total Expenditure | D43: =AM38 -> 0
A44: Surplus / (Deficit) in Month | D44: =D42-D43 -> 0
A45: Surplus / (Deficit) YTD | D45: ='CB8'!D45+'CB9'!D44 -> 0

Sheet CB10
A1: =_xlfn.CONCAT(Data!$B$2," Cash Book") -> Cash Book
A3: Year | B3: =Data!$B$3 -> 0
A4: Month | B4: =Data!$B$13 -> 0
A6: Date | B6: Description | C6: Pay In (Bank Ref) | D6: Total Amount | E6: =Data!$B$18 -> 0 | F6: =Data!$B$19 -> 0 | G6: =Data!$B$20 -> 0 | H6: =Data!$B$21 -> 0 | I6: =Data!$B$22 -> 0 | J6: =Data!$B$23 -> 0 | K6: =Data!$B$24 -> 0 | L6: =Data!$B$25 -> 0 | M6: =Data!$B$26 -> 0 | N6: =Data!$B$27 -> 0 | O6: =Data!$B$28 -> 0 | P6: =Data!$B$29 -> 0 | Q6: =Data!$B$30 -> 0 | R6: =Data!$B$31 -> 0 | S6: =Data!$B$32 -> 0 | T6: =Data!$B$33 -> 0 | U6: =Data!$B$34 -> 0 | V6: =Data!$B$35 -> 0 | W6: =Data!$B$36 -> 0 | X6: =Data!$B$37 -> 0 | Y6: =Data!$B$38 -> 0 | Z6: =Data!$B$39 -> 0 | AA6: =Data!$B$40 -> 0 | AB6: =Data!$B$41 -> 0 | AC6: =Data!$B$42 -> 0 | AD6: =Data!$B$43 -> 0 | AE6: =Data!$B$44 -> 0 | AF6: =Data!$B$45 -> 0 | AG6: =Data!$B$46 -> 0 | AH6: =Data!$B$47 -> 0 | AJ6: Date | AK6: Description | AL6: (Bank Ref) | AM6: Total Amount | AN6: =Data!$B$50 -> 0 | AO6: =Data!$B$51 -> 0 | AP6: =Data!$B$52 -> 0 | AQ6: =Data!$B$53 -> 0 | AR6: =Data!$B$54 -> 0 | AS6: =Data!$B$55 -> 0 | AT6: =Data!$B$56 -> 0 | AU6: =Data!$B$57 -> 0 | AV6: =Data!$B$58 -> 0 | AW6: =Data!$B$59 -> 0 | AX6: =Data!$B$60 -> 0 | AY6: =Data!$B$61 -> 0 | AZ6: =Data!$B$62 -> 0 | BA6: =Data!$B$63 -> 0 | BB6: =Data!$B$64 -> 0 | BC6: =Data!$B$65 -> 0 | BD6: =Data!$B$66 -> 0 | BE6: =Data!$B$67 -> 0 | BF6: =Data!$B$68 -> 0 | BG6: =Data!$B$69 -> 0 | BH6: =Data!$B$70 -> 0 | BI6: =Data!$B$71 -> 0 | BJ6: =Data!$B$72 -> 0 | BK6: =Data!$B$73 -> 0 | BL6: =Data!$B$74 -> 0 | BM6: =Data!$B$75 -> 0 | BN6: =Data!$B$76 -> 0 | BO6: =Data!$B$77 -> 0 | BP6: =Data!$B$78 -> 0 | BQ6: =Data!$B$79 -> 0 | BR6: =Data!$B$80 -> 0 | BS6: =Data!$B$81 -> 0 | BT6: =Data!$B$82 -> 0 | BU6: =Data!$B$83 -> 0 | BV6: =Data!$B$84 -> 0 | BW6: =Data!$B$85 -> 0 | BX6: =Data!$B$86 -> 0 | BY6: =Data!$B$87 -> 0 | BZ6: =Data!$B$88 -> 0 | CA6: =Data!$B$89 -> 0 | CB6: =Data!$B$90 -> 0 | CC6: =Data!$B$91 -> 0 | CD6: =Data!$B$92 -> 0 | CE6: =Data!$B$93 -> 0 | CF6: =Data!$B$94 -> 0
A7: Income | AJ7: Expenditure
D8: =SUM(E8:AH8) -> 0 | AM8: =SUM(AN8:CF8) -> 0
D9: =SUM(E9:AH9) -> 0 | AM9: =SUM(AN9:CF9) -> 0
D10: =SUM(E10:AH10) -> 0 | AM10: =SUM(AN10:CF10) -> 0
D11: =SUM(E11:AH11) -> 0 | AM11: =SUM(AN11:CF11) -> 0
D12: =SUM(E12:AH12) -> 0 | AM12: =SUM(AN12:CF12) -> 0
D13: =SUM(E13:AH13) -> 0 | AM13: =SUM(AN13:CF13) -> 0
D14: =SUM(E14:AH14) -> 0 | AM14: =SUM(AN14:CF14) -> 0
D15: =SUM(E15:AH15) -> 0 | AM15: =SUM(AN15:CF15) -> 0
D16: =SUM(E16:AH16) -> 0 | AM16: =SUM(AN16:CF16) -> 0
D17: =SUM(E17:AH17) -> 0 | AM17: =SUM(AN17:CF17) -> 0
D18: =SUM(E18:AH18) -> 0 | AM18: =SUM(AN18:CF18) -> 0
D19: =SUM(E19:AH19) -> 0 | AM19: =SUM(AN19:CF19) -> 0
... D37: =SUM(E37:AH37) -> 0 | AM37: =SUM(AN37:CF37) -> 0
A38: TOTAL | D38: =SUM(D8:D37) -> 0 | E38: =SUM(E8:E37) -> 0 | F38: =SUM(F8:F37) -> 0 | G38: =SUM(G8:G37) -> 0 | H38: =SUM(H8:H37) -> 0 | I38: =SUM(I8:I37) -> 0 | J38: =SUM(J8:J37) -> 0 | K38: =SUM(K8:K37) -> 0 | ... AH38: =SUM(AH8:AH37) -> 0 | AM38: =SUM(AM8:AM37) -> 0 | AN38: =SUM(AN8:AN37) -> 0 | AO38: =SUM(AO8:AO37) -> 0 | AP38: =SUM(AP8:AP37) -> 0 | AQ38: =SUM(AQ8:AQ37) -> 0 | AR38: =SUM(AR8:AR37) -> 0 | AS38: =SUM(AS8:AS37) -> 0 | AT38: =SUM(AT8:AT37) -> 0 | ... CF38: =SUM(CF8:CF37) -> 0
A41: Month Summary
A42: Total Income | D42: =D38 -> 0
A43: Total Expenditure | D43: =AM38 -> 0
A44: Surplus / (Deficit) in Month | D44: =D42-D43 -> 0
A45: Surplus / (Deficit) YTD | D45: ='CB9'!D45+'CB10'!D44 -> 0

Sheet CB11
A1: =_xlfn.CONCAT(Data!$B$2," Cash Book") -> Cash Book
A3: Year | B3: =Data!$B$3 -> 0
A4: Month | B4: =Data!$B$14 -> 0
A6: Date | B6: Description | C6: Pay In (Bank Ref) | D6: Total Amount | E6: =Data!$B$18 -> 0 | F6: =Data!$B$19 -> 0 | G6: =Data!$B$20 -> 0 | H6: =Data!$B$21 -> 0 | I6: =Data!$B$22 -> 0 | J6: =Data!$B$23 -> 0 | K6: =Data!$B$24 -> 0 | L6: =Data!$B$25 -> 0 | M6: =Data!$B$26 -> 0 | N6: =Data!$B$27 -> 0 | O6: =Data!$B$28 -> 0 | P6: =Data!$B$29 -> 0 | Q6: =Data!$B$30 -> 0 | R6: =Data!$B$31 -> 0 | S6: =Data!$B$32 -> 0 | T6: =Data!$B$33 -> 0 | U6: =Data!$B$34 -> 0 | V6: =Data!$B$35 -> 0 | W6: =Data!$B$36 -> 0 | X6: =Data!$B$37 -> 0 | Y6: =Data!$B$38 -> 0 | Z6: =Data!$B$39 -> 0 | AA6: =Data!$B$40 -> 0 | AB6: =Data!$B$41 -> 0 | AC6: =Data!$B$42 -> 0 | AD6: =Data!$B$43 -> 0 | AE6: =Data!$B$44 -> 0 | AF6: =Data!$B$45 -> 0 | AG6: =Data!$B$46 -> 0 | AH6: =Data!$B$47 -> 0 | AJ6: Date | AK6: Description | AL6: (Bank Ref) | AM6: Total Amount | AN6: =Data!$B$50 -> 0 | AO6: =Data!$B$51 -> 0 | AP6: =Data!$B$52 -> 0 | AQ6: =Data!$B$53 -> 0 | AR6: =Data!$B$54 -> 0 | AS6: =Data!$B$55 -> 0 | AT6: =Data!$B$56 -> 0 | AU6: =Data!$B$57 -> 0 | AV6: =Data!$B$58 -> 0 | AW6: =Data!$B$59 -> 0 | AX6: =Data!$B$60 -> 0 | AY6: =Data!$B$61 -> 0 | AZ6: =Data!$B$62 -> 0 | BA6: =Data!$B$63 -> 0 | BB6: =Data!$B$64 -> 0 | BC6: =Data!$B$65 -> 0 | BD6: =Data!$B$66 -> 0 | BE6: =Data!$B$67 -> 0 | BF6: =Data!$B$68 -> 0 | BG6: =Data!$B$69 -> 0 | BH6: =Data!$B$70 -> 0 | BI6: =Data!$B$71 -> 0 | BJ6: =Data!$B$72 -> 0 | BK6: =Data!$B$73 -> 0 | BL6: =Data!$B$74 -> 0 | BM6: =Data!$B$75 -> 0 | BN6: =Data!$B$76 -> 0 | BO6: =Data!$B$77 -> 0 | BP6: =Data!$B$78 -> 0 | BQ6: =Data!$B$79 -> 0 | BR6: =Data!$B$80 -> 0 | BS6: =Data!$B$81 -> 0 | BT6: =Data!$B$82 -> 0 | BU6: =Data!$B$83 -> 0 | BV6: =Data!$B$84 -> 0 | BW6: =Data!$B$85 -> 0 | BX6: =Data!$B$86 -> 0 | BY6: =Data!$B$87 -> 0 | BZ6: =Data!$B$88 -> 0 | CA6: =Data!$B$89 -> 0 | CB6: =Data!$B$90 -> 0 | CC6: =Data!$B$91 -> 0 | CD6: =Data!$B$92 -> 0 | CE6: =Data!$B$93 -> 0 | CF6: =Data!$B$94 -> 0
A7: Income | AJ7: Expenditure
D8: =SUM(E8:AH8) -> 0 | AM8: =SUM(AN8:CF8) -> 0
D9: =SUM(E9:AH9) -> 0 | AM9: =SUM(AN9:CF9) -> 0
D10: =SUM(E10:AH10) -> 0 | AM10: =SUM(AN10:CF10) -> 0
D11: =SUM(E11:AH11) -> 0 | AM11: =SUM(AN11:CF11) -> 0
D12: =SUM(E12:AH12) -> 0 | AM12: =SUM(AN12:CF12) -> 0
D13: =SUM(E13:AH13) -> 0 | AM13: =SUM(AN13:CF13) -> 0
D14: =SUM(E14:AH14) -> 0 | AM14: =SUM(AN14:CF14) -> 0
D15: =SUM(E15:AH15) -> 0 | AM15: =SUM(AN15:CF15) -> 0
D16: =SUM(E16:AH16) -> 0 | AM16: =SUM(AN16:CF16) -> 0
D17: =SUM(E17:AH17) -> 0 | AM17: =SUM(AN17:CF17) -> 0
D18: =SUM(E18:AH18) -> 0 | AM18: =SUM(AN18:CF18) -> 0
D19: =SUM(E19:AH19) -> 0 | AM19: =SUM(AN19:CF19) -> 0
... D37: =SUM(E37:AH37) -> 0 | AM37: =SUM(AN37:CF37) -> 0
A38: TOTAL | D38: =SUM(D8:D37) -> 0 | E38: =SUM(E8:E37) -> 0 | F38: =SUM(F8:F37) -> 0 | G38: =SUM(G8:G37) -> 0 | H38: =SUM(H8:H37) -> 0 | I38: =SUM(I8:I37) -> 0 | J38: =SUM(J8:J37) -> 0 | K38: =SUM(K8:K37) -> 0 | ... AH38: =SUM(AH8:AH37) -> 0 | AM38: =SUM(AM8:AM37) -> 0 | AN38: =SUM(AN8:AN37) -> 0 | AO38: =SUM(AO8:AO37) -> 0 | AP38: =SUM(AP8:AP37) -> 0 | AQ38: =SUM(AQ8:AQ37) -> 0 | AR38: =SUM(AR8:AR37) -> 0 | AS38: =SUM(AS8:AS37) -> 0 | AT38: =SUM(AT8:AT37) -> 0 | ... CF38: =SUM(CF8:CF37) -> 0
A41: Month Summary
A42: Total Income | D42: =D38 -> 0
A43: Total Expenditure | D43: =AM38 -> 0
A44: Surplus / (Deficit) in Month | D44: =D42-D43 -> 0
A45: Surplus / (Deficit) YTD | D45: ='CB10'!D45+'CB11'!D44 -> 0

Sheet CB12
A1: =_xlfn.CONCAT(Data!$B$2," Cash Book") -> Cash Book
A3: Year | B3: =Data!$B$3 -> 0
A4: Month | B4: =Data!$B$15 -> 0
A6: Date | B6: Description | C6: Pay In (Bank Ref) | D6: Total Amount | E6: =Data!$B$18 -> 0 | F6: =Data!$B$19 -> 0 | G6: =Data!$B$20 -> 0 | H6: =Data!$B$21 -> 0 | I6: =Data!$B$22 -> 0 | J6: =Data!$B$23 -> 0 | K6: =Data!$B$24 -> 0 | L6: =Data!$B$25 -> 0 | M6: =Data!$B$26 -> 0 | N6: =Data!$B$27 -> 0 | O6: =Data!$B$28 -> 0 | P6: =Data!$B$29 -> 0 | Q6: =Data!$B$30 -> 0 | R6: =Data!$B$31 -> 0 | S6: =Data!$B$32 -> 0 | T6: =Data!$B$33 -> 0 | U6: =Data!$B$34 -> 0 | V6: =Data!$B$35 -> 0 | W6: =Data!$B$36 -> 0 | X6: =Data!$B$37 -> 0 | Y6: =Data!$B$38 -> 0 | Z6: =Data!$B$39 -> 0 | AA6: =Data!$B$40 -> 0 | AB6: =Data!$B$41 -> 0 | AC6: =Data!$B$42 -> 0 | AD6: =Data!$B$43 -> 0 | AE6: =Data!$B$44 -> 0 | AF6: =Data!$B$45 -> 0 | AG6: =Data!$B$46 -> 0 | AH6: =Data!$B$47 -> 0 | AJ6: Date | AK6: Description | AL6: (Bank Ref) | AM6: Total Amount | AN6: =Data!$B$50 -> 0 | AO6: =Data!$B$51 -> 0 | AP6: =Data!$B$52 -> 0 | AQ6: =Data!$B$53 -> 0 | AR6: =Data!$B$54 -> 0 | AS6: =Data!$B$55 -> 0 | AT6: =Data!$B$56 -> 0 | AU6: =Data!$B$57 -> 0 | AV6: =Data!$B$58 -> 0 | AW6: =Data!$B$59 -> 0 | AX6: =Data!$B$60 -> 0 | AY6: =Data!$B$61 -> 0 | AZ6: =Data!$B$62 -> 0 | BA6: =Data!$B$63 -> 0 | BB6: =Data!$B$64 -> 0 | BC6: =Data!$B$65 -> 0 | BD6: =Data!$B$66 -> 0 | BE6: =Data!$B$67 -> 0 | BF6: =Data!$B$68 -> 0 | BG6: =Data!$B$69 -> 0 | BH6: =Data!$B$70 -> 0 | BI6: =Data!$B$71 -> 0 | BJ6: =Data!$B$72 -> 0 | BK6: =Data!$B$73 -> 0 | BL6: =Data!$B$74 -> 0 | BM6: =Data!$B$75 -> 0 | BN6: =Data!$B$76 -> 0 | BO6: =Data!$B$77 -> 0 | BP6: =Data!$B$78 -> 0 | BQ6: =Data!$B$79 -> 0 | BR6: =Data!$B$80 -> 0 | BS6: =Data!$B$81 -> 0 | BT6: =Data!$B$82 -> 0 | BU6: =Data!$B$83 -> 0 | BV6: =Data!$B$84 -> 0 | BW6: =Data!$B$85 -> 0 | BX6: =Data!$B$86 -> 0 | BY6: =Data!$B$87 -> 0 | BZ6: =Data!$B$88 -> 0 | CA6: =Data!$B$89 -> 0 | CB6: =Data!$B$90 -> 0 | CC6: =Data!$B$91 -> 0 | CD6: =Data!$B$92 -> 0 | CE6: =Data!$B$93 -> 0 | CF6: =Data!$B$94 -> 0
A7: Income | AJ7: Expenditure
D8: =SUM(E8:AH8) -> 0 | AM8: =SUM(AN8:CF8) -> 0
D9: =SUM(E9:AH9) -> 0 | AM9: =SUM(AN9:CF9) -> 0
D10: =SUM(E10:AH10) -> 0 | AM10: =SUM(AN10:CF10) -> 0
D11: =SUM(E11:AH11) -> 0 | AM11: =SUM(AN11:CF11) -> 0
D12: =SUM(E12:AH12) -> 0 | AM12: =SUM(AN12:CF12) -> 0
D13: =SUM(E13:AH13) -> 0 | AM13: =SUM(AN13:CF13) -> 0
D14: =SUM(E14:AH14) -> 0 | AM14: =SUM(AN14:CF14) -> 0
D15: =SUM(E15:AH15) -> 0 | AM15: =SUM(AN15:CF15) -> 0
D16: =SUM(E16:AH16) -> 0 | AM16: =SUM(AN16:CF16) -> 0
D17: =SUM(E17:AH17) -> 0 | AM17: =SUM(AN17:CF17) -> 0
D18: =SUM(E18:AH18) -> 0 | AM18: =SUM(AN18:CF18) -> 0
D19: =SUM(E19:AH19) -> 0 | AM19: =SUM(AN19:CF19) -> 0
... D37: =SUM(E37:AH37) -> 0 | AM37: =SUM(AN37:CF37) -> 0
A38: TOTAL | D38: =SUM(D8:D37) -> 0 | E38: =SUM(E8:E37) -> 0 | F38: =SUM(F8:F37) -> 0 | G38: =SUM(G8:G37) -> 0 | H38: =SUM(H8:H37) -> 0 | I38: =SUM(I8:I37) -> 0 | J38: =SUM(J8:J37) -> 0 | K38: =SUM(K8:K37) -> 0 | ... AH38: =SUM(AH8:AH37) -> 0 | AM38: =SUM(AM8:AM37) -> 0 | AN38: =SUM(AN8:AN37) -> 0 | AO38: =SUM(AO8:AO37) -> 0 | AP38: =SUM(AP8:AP37) -> 0 | AQ38: =SUM(AQ8:AQ37) -> 0 | AR38: =SUM(AR8:AR37) -> 0 | AS38: =SUM(AS8:AS37) -> 0 | AT38: =SUM(AT8:AT37) -> 0 | ... CF38: =SUM(CF8:CF37) -> 0
A41: Month Summary
A42: Total Income | D42: =D38 -> 0
A43: Total Expenditure | D43: =AM38 -> 0
A44: Surplus / (Deficit) in Month | D44: =D42-D43 -> 0
A45: Surplus / (Deficit) YTD | D45: ='CB11'!D45+'CB12'!D44 -> 0

Sheet IE1
A1: =_xlfn.CONCAT(Data!$B$2," Income & Expenditure Account") -> Income & Expenditure Account
A3: Year | B3: =Data!$B$3 -> 0
A4: Month | B4: =Data!B4 -> 0
B7: Actual | C7: Budget | D7: Variance | F7: Actual | G7: Budget | H7: Variance
B8: Month | C8: Month | D8: Month | F8: YTD | G8: YTD | H8: YTD
A9: Income | B9: £ | C9: £ | D9: £ | F9: £ | G9: £ | H9: £ | J9: Reason for Variance above or below 10% of budget | K9: Action Required | L9: Note No.
A10: =Data!B18 -> 0 | B10: ='CB1'!$E$38 -> 0 | C10: =Budget!$B$7 -> 0 | D10: =B10-C10 -> 0 | F10: ='CB1'!$E$38 -> 0 | G10: =Budget!$B$7 -> 0 | H10: =F10-G10 -> 0
A11: =Data!$B$19 -> 0 | B11: ='CB1'!$F$38 -> 0 | C11: =Budget!$B$8 -> 0 | D11: =B11-C11 -> 0 | F11: ='CB1'!$F$38 -> 0 | G11: =Budget!$B$8 -> 0 | H11: =F11-G11 -> 0
A12: =Data!$B$20 -> 0 | B12: ='CB1'!$G$38 -> 0 | C12: =Budget!$B$9 -> 0 | D12: =B12-C12 -> 0 | F12: ='CB1'!$G$38 -> 0 | G12: =Budget!$B$9 -> 0 | H12: =F12-G12 -> 0
A13: =Data!$B$21 -> 0 | B13: ='CB1'!$H$38 -> 0 | C13: =Budget!$B$10 -> 0 | D13: =B13-C13 -> 0 | F13: ='CB1'!$H$38 -> 0 | G13: =Budget!$B$10 -> 0 | H13: =F13-G13 -> 0
A14: =Data!$B$22 -> 0 | B14: ='CB1'!$I$38 -> 0 | C14: =Budget!$B$11 -> 0 | D14: =B14-C14 -> 0 | F14: ='CB1'!$I$38 -> 0 | G14: =Budget!$B$11 -> 0 | H14: =F14-G14 -> 0
A15: =Data!$B$23 -> 0 | B15: ='CB1'!$J$38 -> 0 | C15: =Budget!$B$12 -> 0 | D15: =B15-C15 -> 0 | F15: ='CB1'!$J$38 -> 0 | G15: =Budget!$B$12 -> 0 | H15: =F15-G15 -> 0
A16: =Data!$B$24 -> 0 | B16: ='CB1'!$K$38 -> 0 | C16: =Budget!$B$13 -> 0 | D16: =B16-C16 -> 0 | F16: ='CB1'!$K$38 -> 0 | G16: =Budget!$B$13 -> 0 | H16: =F16-G16 -> 0
A17: =Data!$B$25 -> 0 | B17: ='CB1'!$L$38 -> 0 | C17: =Budget!$B$14 -> 0 | D17: =B17-C17 -> 0 | F17: ='CB1'!$L$38 -> 0 | G17: =Budget!$B$14 -> 0 | H17: =F17-G17 -> 0
A18: =Data!$B$26 -> 0 | B18: ='CB1'!$M$38 -> 0 | C18: =Budget!$B$15 -> 0 | D18: =B18-C18 -> 0 | F18: ='CB1'!$M$38 -> 0 | G18: =Budget!$B$15 -> 0 | H18: =F18-G18 -> 0
A19: =Data!$B$27 -> 0 | B19: ='CB1'!$N$38 -> 0 | C19: =Budget!$B$16 -> 0 | D19: =B19-C19 -> 0 | F19: ='CB1'!$N$38 -> 0 | G19: =Budget!$B$16 -> 0 | H19: =F19-G19 -> 0
A20: =Data!$B$28 -> 0 | B20: ='CB1'!$O$38 -> 0 | C20: =Budget!$B$17 -> 0 | D20: =B20-C20 -> 0 | F20: ='CB1'!$O$38 -> 0 | G20: =Budget!$B$17 -> 0 | H20: =F20-G20 -> 0
A21: =Data!$B$29 -> 0 | B21: ='CB1'!$P$38 -> 0 | C21: =Budget!$B$18 -> 0 | D21: =B21-C21 -> 0 | F21: ='CB1'!$P$38 -> 0 | G21: =Budget!$B$18 -> 0 | H21: =F21-G21 -> 0
A22: =Data!$B$30 -> 0 | B22: ='CB1'!$Q$38 -> 0 | C22: =Budget!$B$19 -> 0 | D22: =B22-C22 -> 0 | F22: ='CB1'!$Q$38 -> 0 | G22: =Budget!$B$19 -> 0 | H22: =F22-G22 -> 0
A23: =Data!$B$31 -> 0 | B23: ='CB1'!$R$38 -> 0 | C23: =Budget!$B$20 -> 0 | D23: =B23-C23 -> 0 | F23: ='CB1'!$R$38 -> 0 | G23: =Budget!$B$20 -> 0 | H23: =F23-G23 -> 0
A24: =Data!$B$32 -> 0 | B24: ='CB1'!$S$38 -> 0 | C24: =Budget!$B$21 -> 0 | D24: =B24-C24 -> 0 | F24: ='CB1'!$S$38 -> 0 | G24: =Budget!$B$21 -> 0 | H24: =F24-G24 -> 0
A25: =Data!$B$33 -> 0 | B25: ='CB1'!$T$38 -> 0 | C25: =Budget!$B$22 -> 0 | D25: =B25-C25 -> 0 | F25: ='CB1'!$T$38 -> 0 | G25: =Budget!$B$22 -> 0 | H25: =F25-G25 -> 0
A26: =Data!$B$34 -> 0 | B26: ='CB1'!$U$38 -> 0 | C26: =Budget!$B$23 -> 0 | D26: =B26-C26 -> 0 | F26: ='CB1'!$U$38 -> 0 | G26: =Budget!$B$23 -> 0 | H26: =F26-G26 -> 0
A27: =Data!$B$35 -> 0 | B27: ='CB1'!$V$38 -> 0 | C27: =Budget!$B$24 -> 0 | D27: =B27-C27 -> 0 | F27: ='CB1'!$V$38 -> 0 | G27: =Budget!$B$24 -> 0 | H27: =F27-G27 -> 0
A28: =Data!$B$36 -> 0 | B28: ='CB1'!$W$38 -> 0 | C28: =Budget!$B$25 -> 0 | D28: =B28-C28 -> 0 | F28: ='CB1'!$W$38 -> 0 | G28: =Budget!$B$25 -> 0 | H28: =F28-G28 -> 0
A29: =Data!$B$37 -> 0 | B29: ='CB1'!$X$38 -> 0 | C29: =Budget!$B$26 -> 0 | D29: =B29-C29 -> 0 | F29: ='CB1'!$X$38 -> 0 | G29: =Budget!$B$26 -> 0 | H29: =F29-G29 -> 0
A30: =Data!$B$38 -> 0 | B30: ='CB1'!$Y$38 -> 0 | C30: =Budget!$B$27 -> 0 | D30: =B30-C30 -> 0 | F30: ='CB1'!$Y$38 -> 0 | G30: =Budget!$B$27 -> 0 | H30: =F30-G30 -> 0
A31: =Data!$B$39 -> 0 | B31: ='CB1'!$Z$38 -> 0 | C31: =Budget!$B$28 -> 0 | D31: =B31-C31 -> 0 | F31: ='CB1'!$Z$38 -> 0 | G31: =Budget!$B$28 -> 0 | H31: =F31-G31 -> 0
A32: =Data!$B$40 -> 0 | B32: ='CB1'!$AA$38 -> 0 | C32: =Budget!$B$29 -> 0 | D32: =B32-C32 -> 0 | F32: ='CB1'!$AA$38 -> 0 | G32: =Budget!$B$29 -> 0 | H32: =F32-G32 -> 0
A33: =Data!$B$41 -> 0 | B33: ='CB1'!$AB$38 -> 0 | C33: =Budget!$B$30 -> 0 | D33: =B33-C33 -> 0 | F33: ='CB1'!$AB$38 -> 0 | G33: =Budget!$B$30 -> 0 | H33: =F33-G33 -> 0
A34: =Data!$B$42 -> 0 | B34: ='CB1'!$AC$38 -> 0 | C34: =Budget!$B$31 -> 0 | D34: =B34-C34 -> 0 | F34: ='CB1'!$AC$38 -> 0 | G34: =Budget!$B$31 -> 0 | H34: =F34-G34 -> 0
A35: =Data!$B$43 -> 0 | B35: ='CB1'!$AD$38 -> 0 | C35: =Budget!$B$32 -> 0 | D35: =B35-C35 -> 0 | F35: ='CB1'!$AD$38 -> 0 | G35: =Budget!$B$32 -> 0 | H35: =F35-G35 -> 0
A36: =Data!$B$44 -> 0 | B36: ='CB1'!$AE$38 -> 0 | C36: =Budget!$B$33 -> 0 | D36: =B36-C36 -> 0 | F36: ='CB1'!$AE$38 -> 0 | G36: =Budget!$B$33 -> 0 | H36: =F36-G36 -> 0
A37: =Data!$B$45 -> 0 | B37: ='CB1'!$AF$38 -> 0 | C37: =Budget!$B$34 -> 0 | D37: =B37-C37 -> 0 | F37: ='CB1'!$AF$38 -> 0 | G37: =Budget!$B$34 -> 0 | H37: =F37-G37 -> 0
A38: =Data!$B$46 -> 0 | B38: ='CB1'!$AG$38 -> 0 | C38: =Budget!$B$35 -> 0 | D38: =B38-C38 -> 0 | F38: ='CB1'!$AG$38 -> 0 | G38: =Budget!$B$35 -> 0 | H38: =F38-G38 -> 0
A39: =Data!$B$47 -> 0 | B39: ='CB1'!$AH$38 -> 0 | C39: =Budget!$B$36 -> 0 | D39: =B39-C39 -> 0 | F39: ='CB1'!$AH$38 -> 0 | G39: =Budget!$B$36 -> 0 | H39: =F39-G39 -> 0
A40: TOTAL INCOME | B40: =SUM(B10:B39) -> 0 | C40: =SUM(C10:C39) -> 0 | D40: =SUM(D10:D39) -> 0 | F40: =SUM(F10:F39) -> 0 | G40: =SUM(G10:G39) -> 0 | H40: =F40-G40 -> 0
A42: Expenditure
A43: =Data!$B$50 -> 0 | B43: ='CB1'!$AN$38 -> 0 | C43: =Budget!$B$40 -> 0 | D43: =C43-B43 -> 0 | F43: ='CB1'!$AN$38 -> 0 | G43: =Budget!$B$40 -> 0 | H43: =G43-F43 -> 0
A44: =Data!$B$51 -> 0 | B44: ='CB1'!$AO$38 -> 0 | C44: =Budget!$B$41 -> 0 | D44: =C44-B44 -> 0 | F44: ='CB1'!$AO$38 -> 0 | G44: =Budget!$B$41 -> 0 | H44: =G44-F44 -> 0
...

Sheet IE2
A1: =_xlfn.CONCAT(Data!$B$2," Income & Expenditure Account") -> Income & Expenditure Account
A3: Year | B3: =Data!$B$3 -> 0
A4: Month | B4: =Data!B5 -> 0
B7: Actual | C7: Budget | D7: Variance | F7: Actual | G7: Budget | H7: Variance
